BEGIN:VCALENDAR
VERSION:2.0
PRODID:-//ChamberMaster//Event Calendar 2.0//EN
METHOD:PUBLISH
X-PUBLISHED-TTL:P3D
REFRESH-INTERVAL:P3D
CALSCALE:GREGORIAN
BEGIN:VEVENT
DTSTART:20200730T000000Z
DTEND:20200730T010000Z
X-MICROSOFT-CDO-ALLDAYEVENT:FALSE
SUMMARY:Small Business Tele-Town Hall
DESCRIPTION:Join the Insurance Commissioner and the California Legislative Black Caucus for a Tele-Town Hall on Insurance issues and available resources for Small Businesses.\n\n\n\n\n\nCall In Numbers: 844-721-7241 or 409-207-6955\n\nAccess Code: 5726507\n\n\n\n\n\nPlease email your questions in advance and no later than 12:00 p.m. Sunday\, July 26th. They will do their best to answer all emailed questions during the telephone town hall. For questions not addressed during the call\, you will receive contact information for specialists who may be able to assist you directly.\n\nPlease RSVP and submit your questions to crb@insurance.ca.gov with Legislative Black Caucus Tele Town Hall in the subject line before the deadline.
X-ALT-DESC;FMTTYPE=text/html:<p>Join the Insurance Commissioner&nbsp\;and the California Legislative Black Caucus for a Tele-Town Hall on Insurance issues and&nbsp\;available resources for Small Businesses.</p>\n\n<div title="Page 1">\n<div>\n<div>\n<div>\n<p>Call In Numbers: 844-721-7241 or 409-207-6955<br />\nAccess Code: 5726507</p>\n\n<div title="Page 1">\n<div>\n<div>\n<div>\n<p>Please email your questions in advance and no later than 12:00 p.m. <strong>Sunday\, July 26th</strong>. They will do their best to answer all emailed questions during the telephone town hall. For questions not addressed during the call\, you will receive contact information for specialists who may be able to assist you directly.</p>\n\n<p>Please&nbsp\;RSVP&nbsp\;and&nbsp\;submit your questions&nbsp\;to&nbsp\;crb@insurance.ca.gov&nbsp\;with&nbsp\;Legislative Black Caucus Tele Town Hall&nbsp\;in the subject line before the deadline.</p>\n</div>\n</div>\n</div>\n</div>\n</div>\n</div>\n</div>\n</div>\n
LOCATION:Online
UID:e.887.24536
SEQUENCE:3
DTSTAMP:20260421T120052Z
URL:https://business.nocchamber.com/events/details/small-business-tele-town-hall-24536
END:VEVENT

END:VCALENDAR
