BEGIN:VCALENDAR
VERSION:2.0
PRODID:-//ChamberMaster//Event Calendar 2.0//EN
METHOD:PUBLISH
X-PUBLISHED-TTL:P3D
REFRESH-INTERVAL:P3D
CALSCALE:GREGORIAN
BEGIN:VEVENT
DTSTART;VALUE=DATE:20180822
DTEND;VALUE=DATE:20180823
TRANSP:TRANSPARENT
X-MICROSOFT-CDO-ALLDAYEVENT:TRUE
SUMMARY:Small Business Seminar -- Doing Business from A to Z
DESCRIPTION:Running a small business is exciting -- and challenging.  This free Small Business Seminar will provide insight into planning\, establishing and running a business.  Hear firsthand from County\, City State and Federal agencies
X-ALT-DESC;FMTTYPE=text/html:Running a small business is exciting -- and challenging.&nbsp\; This free Small Business Seminar will provide insight into planning\, establishing and running a business.&nbsp\; Hear firsthand from County\, City State and Federal agencies&nbsp\;&nbsp\;&nbsp\;&nbsp\;
LOCATION:Elhers Event Center (Heritage Hall) 8150 Knott Avenue\, Buena Park
UID:e.887.22644
SEQUENCE:3
DTSTAMP:20260422T091348Z
URL:https://business.nocchamber.com/events/details/small-business-seminar-doing-business-from-a-to-z-22644
END:VEVENT

END:VCALENDAR
