BEGIN:VCALENDAR
VERSION:2.0
PRODID:-//ChamberMaster//Event Calendar 2.0//EN
METHOD:PUBLISH
X-PUBLISHED-TTL:P3D
REFRESH-INTERVAL:P3D
CALSCALE:GREGORIAN
BEGIN:VEVENT
DTSTART:20191130T180000Z
DTEND:20191130T230000Z
X-MICROSOFT-CDO-ALLDAYEVENT:FALSE
SUMMARY:Small Business Saturday Pop Up Market
DESCRIPTION:RSVP Event Space is partnering with Happily Ever Etched for its Second Small Business Saturday Pop Up.
X-ALT-DESC;FMTTYPE=text/html:<a href="https://rsvpeventspace.com" target="_blank">RSVP Event Space</a> is partnering with Happily Ever Etched&nbsp\;for its Second Small Business Saturday Pop Up.&nbsp\;&nbsp\;
LOCATION:RSVP Event Space 114 E Amerige Ave Fullerton\, CA 92832
UID:e.887.23729
SEQUENCE:3
DTSTAMP:20260421T214319Z
URL:https://business.nocchamber.com/events/details/small-business-saturday-pop-up-market-23729
END:VEVENT

END:VCALENDAR
