BEGIN:VCALENDAR
VERSION:2.0
PRODID:-//ChamberMaster//Event Calendar 2.0//EN
METHOD:PUBLISH
X-PUBLISHED-TTL:P3D
REFRESH-INTERVAL:P3D
CALSCALE:GREGORIAN
BEGIN:VEVENT
DTSTART:20190327T143000Z
DTEND:20190327T160000Z
X-MICROSOFT-CDO-ALLDAYEVENT:FALSE
SUMMARY:SLDC Young Professional Assoc.- Building Your Professional Brand
DESCRIPTION:Join Speech and Language Development Center for a panel discussion on "Building Your Personal Brand".
X-ALT-DESC;FMTTYPE=text/html:Join Speech and Language Development Center for a panel discussion on &quot\;Building Your Personal Brand&quot\;.
LOCATION:Speech and Language Development Center 8699 Holder St. Buena Park\, CA 90620
UID:e.887.23062
SEQUENCE:3
DTSTAMP:20260422T080859Z
URL:https://business.nocchamber.com/events/details/sldc-young-professional-assoc-building-your-professional-brand-23062
END:VEVENT

END:VCALENDAR
