BEGIN:VCALENDAR
VERSION:2.0
PRODID:-//ChamberMaster//Event Calendar 2.0//EN
METHOD:PUBLISH
X-PUBLISHED-TTL:P3D
REFRESH-INTERVAL:P3D
CALSCALE:GREGORIAN
BEGIN:VEVENT
DTSTART;VALUE=DATE:20190208
DTEND;VALUE=DATE:20190209
TRANSP:TRANSPARENT
X-MICROSOFT-CDO-ALLDAYEVENT:TRUE
SUMMARY:SLDC - Poker Night
DESCRIPTION:Medieval Times is hosting a Poker Night event to support Speech and Language Development Center. The buy-in is $100 per player and $50 per spectator. The winner will receive a $500 Visa gift card.
X-ALT-DESC;FMTTYPE=text/html:Medieval Times is hosting a Poker Night event to support Speech and Language Development Center. The buy-in is $100 per player and $50 per spectator. The winner will receive a $500 Visa gift card.
LOCATION:Medieval Times 7662 Beach Blvd. Buena Park\, CA 90620
UID:e.887.22911
SEQUENCE:3
DTSTAMP:20260422T090927Z
URL:https://business.nocchamber.com/events/details/sldc-poker-night-22911
END:VEVENT

END:VCALENDAR
