BEGIN:VCALENDAR
VERSION:2.0
PRODID:-//ChamberMaster//Event Calendar 2.0//EN
METHOD:PUBLISH
X-PUBLISHED-TTL:P3D
REFRESH-INTERVAL:P3D
CALSCALE:GREGORIAN
BEGIN:VEVENT
DTSTART:20180801T013000Z
DTEND:20180801T033000Z
X-MICROSOFT-CDO-ALLDAYEVENT:FALSE
SUMMARY:Simple Steps to Online Safety - A Google Partner Event
DESCRIPTION:Simple Steps to Online Safety event discusses the best practices and tips for staying safe and secure online: \n\n\n	Fundamentals of password safety\n	Managing account settings\n	Recognize and avoiding common online risks\n	Protecting business and employees online\n	Take action in the event of getting scammed or hacked
X-ALT-DESC;FMTTYPE=text/html:<p><strong>Simple Steps to Online Safety event </strong>discusses the best practices and tips for staying safe and secure online:&nbsp\;</p>\n\n<ul>\n	<li>Fundamentals of password safety</li>\n	<li>Managing account settings</li>\n	<li>Recognize and avoiding common online risks</li>\n	<li>Protecting business and employees online</li>\n	<li>Take action in the event of getting&nbsp\;scammed or hacked</li>\n</ul>\n
LOCATION:Orange County SBDC 11300 Stanford Avenue\, B Room Garden Grove CA 92840
UID:e.887.22563
SEQUENCE:3
DTSTAMP:20260422T072617Z
URL:https://business.nocchamber.com/events/details/simple-steps-to-online-safety-a-google-partner-event-22563
END:VEVENT

END:VCALENDAR
