BEGIN:VCALENDAR
VERSION:2.0
PRODID:-//ChamberMaster//Event Calendar 2.0//EN
METHOD:PUBLISH
X-PUBLISHED-TTL:P3D
REFRESH-INTERVAL:P3D
CALSCALE:GREGORIAN
BEGIN:VEVENT
DTSTART:20191019T000000Z
DTEND:20191019T065500Z
X-MICROSOFT-CDO-ALLDAYEVENT:FALSE
SUMMARY:Silverado Days 2019
DESCRIPTION:Celebrate 63 years in the "Center of the Southland." Enjoy games\, crafts\, contests\, food and fun for the whole family.\n\nFeatured contests include World Amateur Arm Wrestling Championship\, a Men's Leg Contest\, Professional Horseshoe Contest\, Pie- Eating Contest\, Hog Calling\, Baby Contest\, Mutt Show\, Corn Hole Tournament\, along with a Classic Car Show\, Chili Cook-off and more.
X-ALT-DESC;FMTTYPE=text/html:<p>Celebrate 63 years&nbsp\;in the &quot\;Center of the Southland.&quot\; Enjoy games\, crafts\, contests\, food and fun for the whole family.<br />\nFeatured contests include World Amateur Arm Wrestling Championship\, a Men&#39\;s Leg Contest\, Professional Horseshoe Contest\, Pie- Eating Contest\, Hog Calling\, Baby Contest\, Mutt Show\, Corn Hole Tournament\, along with a Classic Car Show\, Chili Cook-off and more.&nbsp\;&nbsp\;</p>\n
LOCATION:William Peak Park 7225 El Dorado Drive Buena Park\, CA 90620
UID:e.887.23769
SEQUENCE:3
DTSTAMP:20260421T225258Z
URL:https://business.nocchamber.com/events/details/silverado-days-2019-23769
END:VEVENT

END:VCALENDAR
