BEGIN:VCALENDAR
VERSION:2.0
PRODID:-//ChamberMaster//Event Calendar 2.0//EN
METHOD:PUBLISH
X-PUBLISHED-TTL:P3D
REFRESH-INTERVAL:P3D
CALSCALE:GREGORIAN
BEGIN:VEVENT
DTSTART:20191020T150000Z
DTEND:20191021T050000Z
X-MICROSOFT-CDO-ALLDAYEVENT:FALSE
SUMMARY:Silverado Days 2019
DESCRIPTION:Celebrate 63 years in the "Center of the Southland." Games\, crafts\, contests\, food and fun for the whole family. \n\nFeatured contests include World Amateur Arm Wrestling\, Championship\, a Men's Leg contest\, Professional Horseshoe Contest\, Pie-Eating Contest\, Hog Calling\, Baby Contest\, Mutt Show\, Corn Hole Tournament along with a Classic Car Show\, Chili Cook-Off\, and more. \n\nPark Hours:  8:00 a.m. - 10:00 p.m.  \n\nCarnival Hours: Noon - 10:00 p.m.\n\n44th Annual Mutt Show:  12:00 p.m. \n\nPie Eating Contest:  3:00 p.m.
X-ALT-DESC;FMTTYPE=text/html:Celebrate 63 years in the &quot\;Center of the Southland.&quot\; Games\, crafts\, contests\, food and fun for the whole family.&nbsp\;<br />\nFeatured contests include World Amateur Arm Wrestling\, Championship\, a Men&#39\;s Leg contest\, Professional Horseshoe Contest\, Pie-Eating Contest\, Hog Calling\, Baby Contest\, Mutt Show\, Corn Hole Tournament along with a Classic Car Show\, Chili Cook-Off\, and more.&nbsp\;<br />\nPark Hours:&nbsp\; 8:00 a.m. - 10:00 p.m.&nbsp\;&nbsp\;<br />\nCarnival Hours: Noon - 10:00 p.m.<br />\n44th Annual Mutt Show:&nbsp\; 12:00 p.m.&nbsp\;<br />\nPie Eating Contest:&nbsp\; 3:00 p.m.&nbsp\;<br />\n<br />\n<br />\n&nbsp\;
LOCATION:Williams Peak Park 7225 El Dorado Drive Buena Park\, CA 90620
UID:e.887.23767
SEQUENCE:3
DTSTAMP:20260422T000623Z
URL:https://business.nocchamber.com/events/details/silverado-days-2019-23767
END:VEVENT

END:VCALENDAR
