BEGIN:VCALENDAR
VERSION:2.0
PRODID:-//ChamberMaster//Event Calendar 2.0//EN
METHOD:PUBLISH
X-PUBLISHED-TTL:P3D
REFRESH-INTERVAL:P3D
CALSCALE:GREGORIAN
BEGIN:VEVENT
DTSTART:20170401T200000Z
DTEND:20170401T230000Z
X-MICROSOFT-CDO-ALLDAYEVENT:FALSE
SUMMARY:Shred Up Party
DESCRIPTION:Today\, ensuring that your critical documents and information do not get into the wrong hands is critical. In fact\, the threat of identity theft has never been stronger. Therefore\, H&R Block in the Fullerton Metrocenter is hosting a 'Shred Up' party. \n\n\n\nWhat's a Shred Up party? Simply put\, H&R Block is inviting you to bring into your local H&R Block office documents to be shredded safely and securely and at no cost. If you are like the rest of us\, your trash cans\, especially at tax time\, are filled to the brim with tax forms\, receipts\, statements and other information. Don't risk throwing them into a garbage bag\; let H&R Block shred them for you\, and while you are there\, let our experienced and trained tax professionals prepare and file your taxes.\n\n\n\nFor the three years of tax returns that it's recommended you keep\, bring those with you too. We're ready to take a Second Look  at them to ensure you claimed all your eligible credits and deductions\, which could mean more money for you.
X-ALT-DESC;FMTTYPE=text/html:<span style="font-family:arial\;">Today\, ensuring that your critical documents and information do not get into the wrong hands is critical. In fact\, the threat of identity theft has never been stronger. Therefore\, H&amp\;R Block in the Fullerton Metrocenter&nbsp\;is hosting a &lsquo\;Shred Up&rsquo\; party.&nbsp\;<br />\n<br />\nWhat&rsquo\;s a Shred Up party? Simply put\, H&amp\;R Block is inviting you to bring into your local H&amp\;R Block office documents to be shredded safely and securely and at no cost. If you are like the rest of us\, your trash cans\, especially at tax time\, are filled to the brim with tax forms\, receipts\, statements and other information. Don&rsquo\;t risk throwing them into a garbage bag\; let H&amp\;R Block shred them for you\, and while you are there\, let our experienced and trained tax professionals prepare and file your taxes.<br />\n<br />\nFor the three years of tax returns that it&rsquo\;s recommended you keep\, bring those with you too. We&rsquo\;re ready to take a Second Look&reg\; at them to ensure you claimed all your eligible credits and deductions\, which could mean more money for you.<br />\n<br />\n&nbsp\;</span><br />\n&nbsp\;
LOCATION:Fullerton Metrocenter 1577 S. Harbor Blvd. Fullerton\, CA 92832
UID:e.887.16011
SEQUENCE:3
DTSTAMP:20260421T163358Z
URL:https://business.nocchamber.com/events/details/shred-up-party-16011
END:VEVENT

END:VCALENDAR
