BEGIN:VCALENDAR
VERSION:2.0
PRODID:-//ChamberMaster//Event Calendar 2.0//EN
METHOD:PUBLISH
X-PUBLISHED-TTL:P3D
REFRESH-INTERVAL:P3D
CALSCALE:GREGORIAN
BEGIN:VEVENT
DTSTART:20191011T023000Z
DTEND:20191011T043000Z
X-MICROSOFT-CDO-ALLDAYEVENT:FALSE
SUMMARY:Sharon McNight at The Muck
DESCRIPTION:Tony-nominee Sharon McNight tips her hat to the late\, great\, legendary ladies of song and a celebration of the "Wizard of Oz". From Patsy Cline to Aretha Franklin\, McNight pays tribute with great music\, funny stories and insightful anecdotes.
X-ALT-DESC;FMTTYPE=text/html:Tony-nominee Sharon McNight tips her hat to the late\, great\, legendary ladies of song and a celebration of the &ldquo\;Wizard of Oz&rdquo\;. From Patsy Cline to Aretha Franklin\, McNight pays tribute with great music\, funny stories and insightful anecdotes.
LOCATION:The Muckenthaler Center 1201 W Malvern Ave Fullerton\, CA 92833
UID:e.887.23645
SEQUENCE:3
DTSTAMP:20260421T230301Z
URL:https://business.nocchamber.com/events/details/sharon-mcnight-at-the-muck-23645
END:VEVENT

END:VCALENDAR
