BEGIN:VCALENDAR
VERSION:2.0
PRODID:-//ChamberMaster//Event Calendar 2.0//EN
METHOD:PUBLISH
X-PUBLISHED-TTL:P3D
REFRESH-INTERVAL:P3D
CALSCALE:GREGORIAN
BEGIN:VEVENT
DTSTART:20190310T033000Z
DTEND:20190310T050000Z
X-MICROSOFT-CDO-ALLDAYEVENT:FALSE
SUMMARY:Shadowball: The “Cool Papa Bell Story”
DESCRIPTION:Shadowball: The "Cool Papa Bell Story"\n\nSaturday\, March 9\, 7:30 p.m.\n\n$30 non-member\, $20 student/senior\, $15 member\n\n\n\nIt was once said about Bell that he was "so fast he could turn out the lights and be in bed before the room got dark."  With Spring training in session\, come celebrate the start of baseball season with this one man show about the greatest outfielder in Negro Leagues history.
X-ALT-DESC;FMTTYPE=text/html:Shadowball: The &ldquo\;Cool Papa Bell Story&rdquo\;<br />\nSaturday\, March 9\, 7:30 p.m.<br />\n<a href="https://themuck.showare.com/eventperformances.asp?evt=213">$30 non-member\, $20 student/senior\, $15 member</a><br />\n<br />\nIt was once said about Bell that he was &ldquo\;so fast he could turn out the lights and be in bed before the room got dark.&rdquo\;&nbsp\; With Spring training in session\, come celebrate the start of baseball season with this one man show about the greatest outfielder in Negro Leagues history.
LOCATION:Muckenthaler Cultural Center 1201 West Malvern Ave. Fullerton\, CA 92833
UID:e.887.22914
SEQUENCE:3
DTSTAMP:20260422T091221Z
URL:https://business.nocchamber.com/events/details/shadowball-the-cool-papa-bell-story-22914
END:VEVENT

END:VCALENDAR
