BEGIN:VCALENDAR
VERSION:2.0
PRODID:-//ChamberMaster//Event Calendar 2.0//EN
METHOD:PUBLISH
X-PUBLISHED-TTL:P3D
REFRESH-INTERVAL:P3D
CALSCALE:GREGORIAN
BEGIN:VEVENT
DTSTART:20190802T010000Z
DTEND:20190802T020000Z
X-MICROSOFT-CDO-ALLDAYEVENT:FALSE
SUMMARY:Senator Ling Ling Chang Stanton Community Coffee
DESCRIPTION:Join Senator Ling Ling Chang for some conversation over coffee. Bring your questions.
X-ALT-DESC;FMTTYPE=text/html:Join Senator Ling Ling Chang for some conversation over coffee. Bring your questions.
LOCATION:Stanton Central Park 10660 Western Ave. Stanton\, CA 90680
UID:e.887.23602
SEQUENCE:3
DTSTAMP:20260422T015318Z
URL:https://business.nocchamber.com/events/details/senator-ling-ling-chang-stanton-community-coffee-23602
END:VEVENT

END:VCALENDAR
