BEGIN:VCALENDAR
VERSION:2.0
PRODID:-//ChamberMaster//Event Calendar 2.0//EN
METHOD:PUBLISH
X-PUBLISHED-TTL:P3D
REFRESH-INTERVAL:P3D
CALSCALE:GREGORIAN
BEGIN:VEVENT
DTSTART:20190914T160000Z
DTEND:20190914T190000Z
X-MICROSOFT-CDO-ALLDAYEVENT:FALSE
SUMMARY:Senator Ling Ling Chang - Free Pet Microchipping
DESCRIPTION:Senator Ling Ling Chang is hosting a Free Pet Microchipping Pawfest on Saturday\, September 14 from 9:00 a.m. to 12:00 p.m. at Brookhurst Park. She will be giving an update on her bill to microchip all shelter pets.\n\n\n\nMicrochipping provided by Heathcare & Emergency Animal Rescue Team (HEART).\n\n\n\nClick here to view the full flyer.
X-ALT-DESC;FMTTYPE=text/html:Senator Ling Ling Chang is hosting a Free Pet Microchipping Pawfest on Saturday\, September 14 from 9:00 a.m. to 12:00 p.m. at Brookhurst Park. She will be giving an update on her bill to microchip all shelter pets.<br />\n<br />\nMicrochipping provided by Heathcare &amp\; Emergency Animal Rescue Team (HEART).<br />\n<br />\n<a href="https://chambermaster.blob.core.windows.net/userfiles/UserFiles/chambers/887/File/PAFESTMICROCHIPEVENT2.png">Click here to view the full flyer.</a>
LOCATION:Brookhurst Park 2271 Crescent Ave. Anaheim\, CA 92801
UID:e.887.23688
SEQUENCE:3
DTSTAMP:20260422T002800Z
URL:https://business.nocchamber.com/events/details/senator-ling-ling-chang-free-pet-microchipping-23688
END:VEVENT

END:VCALENDAR
