BEGIN:VCALENDAR
VERSION:2.0
PRODID:-//ChamberMaster//Event Calendar 2.0//EN
METHOD:PUBLISH
X-PUBLISHED-TTL:P3D
REFRESH-INTERVAL:P3D
CALSCALE:GREGORIAN
BEGIN:VEVENT
DTSTART:20190511T170000Z
DTEND:20190511T200000Z
X-MICROSOFT-CDO-ALLDAYEVENT:FALSE
SUMMARY:Senator Ling Ling Chang - Free Pet Microchip Day in Placentia
DESCRIPTION:Free pet micro-chipping event for dogs and cats and update on Senate Bill 64\, which would help reunite pets with owners\, significantly reduce the number of euthanized pets\, ands save taxpayer dollars.\n\n\n\nIf your pet already has a microchip\, you are invited to check their existing microchip.\n\n\n\nClick here to register for this free event.
X-ALT-DESC;FMTTYPE=text/html:Free pet micro-chipping event for dogs and cats and update on Senate Bill 64\, which would help reunite pets with owners\, significantly reduce the number of euthanized pets\, ands save taxpayer dollars.<br />\n<br />\nIf your pet already has a microchip\, you are invited to check their existing microchip.<br />\n<br />\n<a href="http://senate.ca.gov/chang" target="_blank">Click here to register for this free event.</a>
LOCATION:Placentia Library District 411 E. Chapman Ave. Placentia\, CA 92870
UID:e.887.23292
SEQUENCE:3
DTSTAMP:20260422T065530Z
URL:https://business.nocchamber.com/events/details/senator-ling-ling-chang-free-pet-microchip-day-in-placentia-23292
END:VEVENT

END:VCALENDAR
