BEGIN:VCALENDAR
VERSION:2.0
PRODID:-//ChamberMaster//Event Calendar 2.0//EN
METHOD:PUBLISH
X-PUBLISHED-TTL:P3D
REFRESH-INTERVAL:P3D
CALSCALE:GREGORIAN
BEGIN:VEVENT
DTSTART:20200319T210000Z
DTEND:20200319T220000Z
X-MICROSOFT-CDO-ALLDAYEVENT:FALSE
SUMMARY:Senator Ling Ling Chang & Experts Covid-19 Telephone Town Hall
DESCRIPTION:Senator Ling Ling Chang invites you to participate in a Telephone Town Hall about COVID-19 and its impact on our community on Thursday\, March 19\, 2020 at 2:00PM.\n\n \n\nGuests speakers will include:\n\n	Dr. Al Mijares\, Orange County Superintendent of Schools\n	Noel Bazini-Barakat\, Regional Health Officer for San Gabriel Valley\n	A Public Health Expert from UC Irvine\n	Theresa Harvey\, President/CEO North Orange County Chamber of Commerce\n\n \n\nThese experts will explain the nature of the virus\, the steps we are taking to contain it\, and contingency plans schools are making.\n\n\n\nThere is limited capacity for this call and those who wish to participate will need to RSVP by 5:00 p.m. on March 18. A follow-up email will be sent to you Thursday morning with the call-in phone number and passcode. \n\n \n\nBecause of the volume of callers we are expecting\, live questions will not be possible. Please submit questions to Senator.Chang@sen.ca.gov
X-ALT-DESC;FMTTYPE=text/html:Senator Ling Ling Chang invites you to participate in a Telephone Town Hall about COVID-19&nbsp\;and its impact on our community on&nbsp\;Thursday\, March 19\, 2020 at 2:00PM.<br />\n&nbsp\;<br />\nGuests speakers&nbsp\;will include:\n<ul>\n	<li>Dr. Al Mijares\, Orange County Superintendent of Schools</li>\n	<li>Noel Bazini-Barakat\, Regional Health Officer for San Gabriel Valley</li>\n	<li>A Public Health Expert from UC Irvine</li>\n	<li>Theresa Harvey\, President/CEO&nbsp\;North Orange County Chamber of Commerce</li>\n</ul>\n&nbsp\;<br />\nThese experts will explain the nature of the virus\, the steps we are taking to contain it\, and contingency plans schools are making.<br />\n<br />\nThere is limited capacity for this call and&nbsp\;those who wish to participate will&nbsp\;need&nbsp\;to&nbsp\;<strong>RSVP by 5:00 p.m. on&nbsp\;March 18</strong>. A follow-up email will be sent to you Thursday morning with&nbsp\;the call-in phone number and passcode.&nbsp\;<br />\n&nbsp\;<br />\nBecause of the volume of callers we are expecting\, live questions will not be possible. Please submit questions to&nbsp\;Senator.Chang@sen.ca.gov<br />\n&nbsp\;
LOCATION:RSVP by 5:00 p.m. on March 18 Click here to RSVP
UID:e.887.24261
SEQUENCE:3
DTSTAMP:20260421T165233Z
URL:https://business.nocchamber.com/events/details/senator-ling-ling-chang-experts-covid-19-telephone-town-hall-24261
END:VEVENT

END:VCALENDAR
