BEGIN:VCALENDAR
VERSION:2.0
PRODID:-//ChamberMaster//Event Calendar 2.0//EN
METHOD:PUBLISH
X-PUBLISHED-TTL:P3D
REFRESH-INTERVAL:P3D
CALSCALE:GREGORIAN
BEGIN:VEVENT
DTSTART:20191106T180000Z
DTEND:20191106T200000Z
X-MICROSOFT-CDO-ALLDAYEVENT:FALSE
SUMMARY:Senator Chang Small Business Forum
DESCRIPTION:Join Senator Chang for a Small Business Forum. Topics will range from how to make your business ADA complaint\, update on new California Employment Laws\, and how to reduce your risk of litigation.
X-ALT-DESC;FMTTYPE=text/html:Join Senator Chang for a Small Business Forum. Topics will range from how to make your business ADA complaint\, update on new California Employment Laws\, and how to reduce your risk of litigation.
LOCATION:Brea Civic & Cultural Center 1 Civic Center Circle Brea\, CA\, 92821
UID:e.887.23788
SEQUENCE:3
DTSTAMP:20260421T214039Z
URL:https://business.nocchamber.com/events/details/senator-chang-small-business-forum-23788
END:VEVENT

END:VCALENDAR
