BEGIN:VCALENDAR
VERSION:2.0
PRODID:-//ChamberMaster//Event Calendar 2.0//EN
METHOD:PUBLISH
X-PUBLISHED-TTL:P3D
REFRESH-INTERVAL:P3D
CALSCALE:GREGORIAN
BEGIN:VEVENT
DTSTART:20191107T163000Z
DTEND:20191107T180000Z
X-MICROSOFT-CDO-ALLDAYEVENT:FALSE
SUMMARY:Senator Chang - Dealing with Americans with Disabilities Act & Prop 65
DESCRIPTION:Senator Ling Ling Chang and Korean American Chamber of Commerce of Orange County present a Small Business Forum on the Disabilities Act. There will be a presentation and panelists. Panelists include Rachelle Golden\, a lawyer involved in the ADA and Vanessa Adriance\, a lawyer involved with Prop 65.
X-ALT-DESC;FMTTYPE=text/html:Senator Ling Ling Chang and Korean American Chamber of Commerce of Orange County present a Small Business Forum on the Disabilities Act. There will be a presentation and panelists. Panelists include Rachelle Golden\, a lawyer involved in the ADA and Vanessa Adriance\, a lawyer involved with Prop 65.
LOCATION:Buena Park Community Center 6688 Beach Boulevard Buena Park\, CA 90621
UID:e.887.23796
SEQUENCE:3
DTSTAMP:20260421T214155Z
URL:https://business.nocchamber.com/events/details/senator-chang-dealing-with-americans-with-disabilities-act-prop-65-23796
END:VEVENT

END:VCALENDAR
