BEGIN:VCALENDAR
VERSION:2.0
PRODID:-//ChamberMaster//Event Calendar 2.0//EN
METHOD:PUBLISH
X-PUBLISHED-TTL:P3D
REFRESH-INTERVAL:P3D
CALSCALE:GREGORIAN
BEGIN:VEVENT
DTSTART:20200729T170000Z
DTEND:20200729T180000Z
X-MICROSOFT-CDO-ALLDAYEVENT:FALSE
SUMMARY:Seminar: Utilization of C02 Emissions to make Renewable Fuels and Chemicals
DESCRIPTION:In this Seminar Dr. Etosha (Eee-tah-sha) Cave\, co-founder and Chief Science Officer at Opus 12\, will discuss the following:\n\n	The science behind electrochemical CO2 reduction\n	How additional development would make this technology cost-competitive with other biogas upgrading processes\n	How this work fits into Opus 12's larger mission to convert CO2 to useful products.
X-ALT-DESC;FMTTYPE=text/html:In this Seminar&nbsp\;Dr. Etosha (Eee-tah-sha) Cave\, co-founder and Chief Science Officer at Opus 12\, will discuss the following:\n<ul font-size:="" helvetica="" margin-bottom:="" margin-top:="" segoe="" type="disc" ui="" web="" west="">\n	<li 0px="" 15pt="" line-height:="" margin:="" new="" times="">The science behind electrochemical CO2 reduction</li>\n	<li 0px="" 15pt="" line-height:="" margin:="" new="" times="">How additional development would make this technology cost-competitive with other biogas upgrading processes</li>\n	<li 0px="" 15pt="" line-height:="" margin:="" new="" times="">How this work fits into Opus 12&#39\;s larger mission to convert CO2 to useful products.</li>\n</ul>\n
LOCATION:Online Webinar
UID:e.887.24538
SEQUENCE:3
DTSTAMP:20260421T120255Z
URL:https://business.nocchamber.com/events/details/seminar-utilization-of-c02-emissions-to-make-renewable-fuels-and-chemicals-24538
END:VEVENT

END:VCALENDAR
