BEGIN:VCALENDAR
VERSION:2.0
PRODID:-//ChamberMaster//Event Calendar 2.0//EN
METHOD:PUBLISH
X-PUBLISHED-TTL:P3D
REFRESH-INTERVAL:P3D
CALSCALE:GREGORIAN
BEGIN:VEVENT
DTSTART:20170628T010000Z
DTEND:20170628T040000Z
X-MICROSOFT-CDO-ALLDAYEVENT:FALSE
SUMMARY:Selling Techniques that Work
DESCRIPTION:This workshop will teach you how to relish the opportunity to engage in the process of selling. Selling is a skill that is learned not inherent. Carl Woodart presents this workshop that talks about the key basic selling techniques for primary face to face and telephone sales. After this workshop he hopes you will have learned how to make a sale by knowing how to create the right impression and what to say for maximum impact.
X-ALT-DESC;FMTTYPE=text/html:This workshop will teach you how to relish the opportunity to engage&nbsp\;in the process of selling. Selling is a skill that is learned not inherent. Carl Woodart presents this workshop that talks about the key basic selling techniques for primary face to face and telephone sales. After this workshop he hopes you will have learned how to make a sale by knowing how to create the right impression and what to say for maximum impact.
LOCATION:Garden Grove Community Ctr 11300 Stanford Ave\, Room B Garden Grove\, CA 92840
UID:e.887.16230
SEQUENCE:3
DTSTAMP:20260421T032508Z
URL:https://business.nocchamber.com/events/details/selling-techniques-that-work-16230
END:VEVENT

END:VCALENDAR
