BEGIN:VCALENDAR
VERSION:2.0
PRODID:-//ChamberMaster//Event Calendar 2.0//EN
METHOD:PUBLISH
X-PUBLISHED-TTL:P3D
REFRESH-INTERVAL:P3D
CALSCALE:GREGORIAN
BEGIN:VEVENT
DTSTART:20180418T200000Z
DTEND:20180418T230000Z
X-MICROSOFT-CDO-ALLDAYEVENT:FALSE
SUMMARY:SCORE Workshop - Windows 10 Basics Including the New Creators Update
DESCRIPTION:Learn the basics of the latest and the greatest Windows Operating System yet. Windows 10 is fast\, easy to use and includes many new amazing features. Learn the basics of setting it up and using it as well as learn the new Edge net browser and Cortana which are included with Windows 10. Also learn about new features included with the latest updates including the recently released Creators Update.  \n\nDan Feinberg presents this workshop. Dan has been a "techie" since he was a teenager. As a volunteer he teaches computer use to seniors\; as a hobby he builds extreme computers. Dan is President and CEO of Fein-Line Associates\, Inc.\, a consulting firm focused on the electronic interconnect and assembly industries and also a founding Partner in the Quantum Performance Group\, LLC\, a market research firm.  He formerly was president of Morton Electronic Materials\, a $220 million division of Morton International\, Inc.  He has authored numerous articles\, presented papers at various industry events\, and taught tutorials. Dan writes a monthly column for CircuiTree magazine.
X-ALT-DESC;FMTTYPE=text/html:<p style="margin: 0px 0px 18px\; padding: 0px\; color: rgb(0\, 0\, 144)\; font-family: Arial\, Helvetica\, sans-serif\; font-size: 12px\;"><span style="color:#000000\;"><span style="font-size: 10pt\;" title="">Learn the basics of the latest and the greatest Windows Operating System yet. Windows 10 is fast\, easy to use and includes many new amazing features. Learn the basics of setting it up and using it as well as learn the new Edge net browser and Cortana which are included with Windows 10. Also learn about new features included with the latest updates including the recently released Creators Update.&nbsp\;</span>&nbsp\;</span></p>\n\n<div style="margin: 0px\; padding: 0px\; color: rgb(0\, 0\, 144)\; font-family: Arial\, Helvetica\, sans-serif\; font-size: 12px\;"><span style="color:#000000\;"><span style="font-size: 10pt\;" title=""><strong>Dan Feinberg</strong>&nbsp\;presents this workshop. Dan has been a &ldquo\;techie&rdquo\; since he was a teenager. As a volunteer he teaches computer use to seniors\; as a hobby he builds extreme computers. Dan is President and CEO of Fein-Line Associates\, Inc.\, a consulting firm focused on the electronic interconnect and assembly industries and also a founding Partner in the Quantum Performance Group\, LLC\, a market research firm.&nbsp\; He formerly was president of Morton Electronic Materials\, a $220 million division of Morton International\, Inc.&nbsp\; He has authored numerous articles\, presented papers at various industry events\, and taught tutorials.&nbsp\;Dan writes a monthly column for CircuiTree magazine.&nbsp\; &nbsp\; &nbsp\; &nbsp\; &nbsp\; &nbsp\; &nbsp\; &nbsp\; &nbsp\; &nbsp\; &nbsp\; &nbsp\; &nbsp\; &nbsp\; &nbsp\; &nbsp\; &nbsp\; &nbsp\; &nbsp\; &nbsp\; &nbsp\; &nbsp\; &nbsp\; &nbsp\; &nbsp\; &nbsp\; &nbsp\; &nbsp\; &nbsp\; &nbsp\; &nbsp\; &nbsp\; &nbsp\; &nbsp\; &nbsp\; &nbsp\; &nbsp\; &nbsp\; &nbsp\; &nbsp\; &nbsp\; &nbsp\; &nbsp\; &nbsp\; &nbsp\; &nbsp\; &nbsp\; &nbsp\; &nbsp\; &nbsp\; &nbsp\; &nbsp\; &nbsp\; &nbsp\; &nbsp\; &nbsp\; &nbsp\; &nbsp\; &nbsp\; &nbsp\; &nbsp\; &nbsp\; &nbsp\; &nbsp\;</span></span><span style="font-size: 10pt\; color: rgb(0\, 0\, 128)\;" title=""> &nbsp\; &nbsp\; &nbsp\; &nbsp\; &nbsp\; &nbsp\; &nbsp\; &nbsp\;&nbsp\;</span></div>\n
LOCATION:National University(VM Heard) 3390 Harbor Blvd. Costa Mesa\, CA 92626
UID:e.887.21290
SEQUENCE:3
DTSTAMP:20260421T230835Z
URL:https://business.nocchamber.com/events/details/score-workshop-windows-10-basics-including-the-new-creators-update-21290
END:VEVENT

END:VCALENDAR
