BEGIN:VCALENDAR
VERSION:2.0
PRODID:-//ChamberMaster//Event Calendar 2.0//EN
METHOD:PUBLISH
X-PUBLISHED-TTL:P3D
REFRESH-INTERVAL:P3D
CALSCALE:GREGORIAN
BEGIN:VEVENT
DTSTART:20170414T010000Z
DTEND:20170414T040000Z
X-MICROSOFT-CDO-ALLDAYEVENT:FALSE
SUMMARY:SCORE Workshop - What Makes A Great Website Plus Live Website Critiques
DESCRIPTION:The foundation of your digital marketing strategy is your website. Without a great website\, you're building a marketing house on digital sand. Make sure your website attracts\, holds\, and converts new visitors and customers. Plus\, useful tips from Stu's new book on internet marketing. \n\n\n\nStuart Atkins of Atkins Marketing Solutions presents this workshop
X-ALT-DESC;FMTTYPE=text/html:The foundation of your digital marketing strategy is your website. Without a great website\, you&#39\;re building a marketing house on digital sand. Make sure your website attracts\, holds\, and converts new visitors and customers. Plus\, useful tips from Stu&#39\;s new book on internet marketing.&nbsp\;<br />\n<br />\nStuart Atkins&nbsp\;of Atkins Marketing Solutions presents this workshop
LOCATION:Fullerton Public Library Main Branch 353 W. Commonwealth Ave. Fullerton\, CA 92832
UID:e.887.16023
SEQUENCE:3
DTSTAMP:20260421T150407Z
URL:https://business.nocchamber.com/events/details/score-workshop-what-makes-a-great-website-plus-live-website-critiques-16023
END:VEVENT

END:VCALENDAR
