BEGIN:VCALENDAR
VERSION:2.0
PRODID:-//ChamberMaster//Event Calendar 2.0//EN
METHOD:PUBLISH
X-PUBLISHED-TTL:P3D
REFRESH-INTERVAL:P3D
CALSCALE:GREGORIAN
BEGIN:VEVENT
DTSTART:20200228T020000Z
DTEND:20200228T044500Z
X-MICROSOFT-CDO-ALLDAYEVENT:FALSE
SUMMARY:SCORE Workshop\, Tustin - Raising Capital For Your Business
DESCRIPTION:Raising Capital for Your Business is a workshop that offers advice geared to all types of entrepreneur that are looking for capital. It discusses the aspects and tools necessary for seeking capital\, as well as identifying the types of money and resources available from financiers today.  They will look at broad challenges in raising capital at all stages and attendees will walk away with a playbook and a broad survey to game plan for raising money for their business.\n\n \n\nWhat You Will Learn:\n\n* The types of money available and the types of suppliers of money and how they differ.\n\n* The different effects of taking each type of capital long term for your business.\n\n* How to measure and use financials tools to evaluate your business and cost of your capital.\n\n* How to begin to develop your current business plans now to raise capital for the future.\n\n* Valuable resources and tools to use for more information.\n\n\n\nThis workshop is presented by Irving Kau.
X-ALT-DESC;FMTTYPE=text/html:<strong>Raising Capital for Your Business</strong> is a workshop that offers advice geared to all types of entrepreneur that are looking for capital. It discusses the aspects and tools necessary for seeking capital\, as well as identifying the types of money and resources available from financiers today.&nbsp\; They will look at broad challenges in raising capital at all stages and attendees will walk away with a playbook and a broad survey to game plan for raising money for their business.<br />\n&nbsp\;<br />\nWhat You Will Learn:<br />\n* The types of money available and the types of suppliers of money and how they differ.<br />\n* The different effects of taking each type of capital long term for your business.<br />\n* How to measure and use financials tools to evaluate your business and cost of your capital.<br />\n* How to begin to develop your current business plans now to raise capital for the future.<br />\n* Valuable resources and tools to use for more information.<br />\n<br />\nThis workshop is presented by Irving Kau.
LOCATION:Tustin Public Library (VM Curtis) 345 E. Main St. Tustin\, CA 92780
UID:e.887.24176
SEQUENCE:3
DTSTAMP:20260421T191556Z
URL:https://business.nocchamber.com/events/details/score-workshop-tustin-raising-capital-for-your-business-24176
END:VEVENT

END:VCALENDAR
