BEGIN:VCALENDAR
VERSION:2.0
PRODID:-//ChamberMaster//Event Calendar 2.0//EN
METHOD:PUBLISH
X-PUBLISHED-TTL:P3D
REFRESH-INTERVAL:P3D
CALSCALE:GREGORIAN
BEGIN:VEVENT
DTSTART:20190918T200000Z
DTEND:20190918T230000Z
X-MICROSOFT-CDO-ALLDAYEVENT:FALSE
SUMMARY:SCORE Workshop: Top 20 Technologies to Modernize Your Business
DESCRIPTION:Technology changes and evolves quickly. And personnel salaries are most often the highest expense within your company. Come and learn to empower your team\, reduce inefficient time and thus increase their value. While attending this modern workshop\, you'll also learn how to leverage easy technologies to greatly enhance your team's productivity and efficiency.\n\n\n\nPresented by Dave Seibert. He has over 30 years of experiences has helped 100's of business to better succeed.
X-ALT-DESC;FMTTYPE=text/html:<p>Technology changes and evolves quickly. And personnel salaries are most often the highest expense within your company. Come and learn to empower your team\, reduce inefficient time and thus increase their value. While attending this modern workshop\, you&#39\;ll also learn how to leverage easy technologies to greatly enhance your team&#39\;s productivity and efficiency.<br />\n<br />\nPresented by Dave Seibert. He has over 30 years of experiences has helped 100&#39\;s of business to better succeed.&nbsp\;</p>\n
LOCATION:National University (VM Heard) 3390 Harbor Blvd. Costa Mesa\, CA 92626
UID:e.887.23705
SEQUENCE:3
DTSTAMP:20260422T012329Z
URL:https://business.nocchamber.com/events/details/score-workshop-top-20-technologies-to-modernize-your-business-23705
END:VEVENT

END:VCALENDAR
