BEGIN:VCALENDAR
VERSION:2.0
PRODID:-//ChamberMaster//Event Calendar 2.0//EN
METHOD:PUBLISH
X-PUBLISHED-TTL:P3D
REFRESH-INTERVAL:P3D
CALSCALE:GREGORIAN
BEGIN:VEVENT
DTSTART:20181214T020000Z
DTEND:20181214T040000Z
X-MICROSOFT-CDO-ALLDAYEVENT:FALSE
SUMMARY:SCORE Workshop - The Secrets to Buying a Franchise
DESCRIPTION:SCORE is hosting a workshop on the secrets to buying a franchise:\n\n	To evaluate starting a franchise vs. an independent business vs. buying an existing business\n	The best types of franchises for today's economy\n	The myths about franchising and the mistakes to avoid\n	How to research a franchise and determine if it's the right choice for you\n	California laws & legal issues\n	Insights into legal documents\, e.g. disclosure document and franchise agreement.
X-ALT-DESC;FMTTYPE=text/html:SCORE is hosting a workshop on the secrets to buying a franchise:\n<ul>\n	<li>To evaluate starting a franchise vs. an independent business vs. buying an existing business</li>\n	<li>The best types of franchises for today&#39\;s economy</li>\n	<li>The myths about franchising and the mistakes to avoid</li>\n	<li>How to research a franchise and determine if it&#39\;s the right choice for you</li>\n	<li>California laws &amp\; legal issues</li>\n	<li>Insights into legal documents\, e.g. disclosure document and franchise agreement.</li>\n</ul>\n
LOCATION:Yorba Linda Public Library (VM Woodard) 18181 Imperial Highway Yorba Linda\, CA 92886
UID:e.887.22898
SEQUENCE:3
DTSTAMP:20260422T114242Z
URL:https://business.nocchamber.com/events/details/score-workshop-the-secrets-to-buying-a-franchise-22898
END:VEVENT

END:VCALENDAR
