BEGIN:VCALENDAR
VERSION:2.0
PRODID:-//ChamberMaster//Event Calendar 2.0//EN
METHOD:PUBLISH
X-PUBLISHED-TTL:P3D
REFRESH-INTERVAL:P3D
CALSCALE:GREGORIAN
BEGIN:VEVENT
DTSTART:20170317T010000Z
DTEND:20170317T040000Z
X-MICROSOFT-CDO-ALLDAYEVENT:FALSE
SUMMARY:SCORE Workshop The Secrets To Buying A Franchise
DESCRIPTION:You will learn how to evaluate starting a franchise vs. an independent business vs. buying an existing business\; the best types of franchises to open in today's economy\; the myths about franchising\; the costs to start a franchise\; how to research a franchise to make sure it's the right choice\; how to decide which franchises are best for you\; what mistakes to avoid when choosing and researching a franchise\; negotiation issues\; California laws & common issues\; legal documents\, e.g. disclosure document and franchise agreement.\n\n\n\nPage Nicol of FranNet & Richard Usher of Furman Usher\, Inc. present this workshop.
X-ALT-DESC;FMTTYPE=text/html:You will learn how to evaluate starting a franchise vs. an independent business vs. buying an existing business\; the best types of franchises to open in today&#39\;s economy\; the myths about franchising\; the costs to start a franchise\; how to research a franchise to make sure it&#39\;s the right choice\; how to decide which franchises are best for you\; what mistakes to avoid when choosing and researching a franchise\; negotiation issues\; California laws &amp\; common issues\; legal documents\, e.g. disclosure document and franchise agreement.<br />\n<br />\nPage Nicol of FranNet &amp\; Richard Usher of Furman Usher\, Inc. present this workshop.&nbsp\;&nbsp\;
LOCATION:Fullerton Public Library Main Branch 353 W. Commonwealth Ave Fullerton\, CA 92832
UID:e.887.15987
SEQUENCE:3
DTSTAMP:20260421T214334Z
URL:https://business.nocchamber.com/events/details/score-workshop-the-secrets-to-buying-a-franchise-15987
END:VEVENT

END:VCALENDAR
