BEGIN:VCALENDAR
VERSION:2.0
PRODID:-//ChamberMaster//Event Calendar 2.0//EN
METHOD:PUBLISH
X-PUBLISHED-TTL:P3D
REFRESH-INTERVAL:P3D
CALSCALE:GREGORIAN
BEGIN:VEVENT
DTSTART:20180803T010000Z
DTEND:20180803T040000Z
X-MICROSOFT-CDO-ALLDAYEVENT:FALSE
SUMMARY:SCORE Workshop - The Secrets of Selling
DESCRIPTION:This SCORE workshop will cover the following:\n\n	Probing Questions\n	Tricks To Closing Sales & Negotiations\n	What To Say\; "Price Is To High!"\n	Develop an Exciting Sales Presentation\n	Features vs Benefits\n	Salesperson No-No's
X-ALT-DESC;FMTTYPE=text/html:This SCORE workshop will cover the following:\n<ul>\n	<li>Probing Questions</li>\n	<li>Tricks To Closing Sales &amp\; Negotiations</li>\n	<li>What To Say\; &quot\;Price Is To High!&quot\;</li>\n	<li>Develop an Exciting Sales Presentation</li>\n	<li>Features vs Benefits</li>\n	<li>Salesperson No-No&#39\;s&nbsp\;</li>\n</ul>\n
LOCATION:Brea Conference Ctr 1 Civic Center Circle\, 2nd Floor Brea\, CA 92821
UID:e.887.22598
SEQUENCE:3
DTSTAMP:20260422T123415Z
URL:https://business.nocchamber.com/events/details/score-workshop-the-secrets-of-selling-22598
END:VEVENT

END:VCALENDAR
