BEGIN:VCALENDAR
VERSION:2.0
PRODID:-//ChamberMaster//Event Calendar 2.0//EN
METHOD:PUBLISH
X-PUBLISHED-TTL:P3D
REFRESH-INTERVAL:P3D
CALSCALE:GREGORIAN
BEGIN:VEVENT
DTSTART:20170411T160000Z
DTEND:20170411T190000Z
X-MICROSOFT-CDO-ALLDAYEVENT:FALSE
SUMMARY:SCORE Workshop The Secrets of Selling
DESCRIPTION:Designed for business owners\, managers\, office and sales staff\, this workshop will take you step by step through the art of selling.It is guaranteed to give you much more confidence\, a far better understanding of the sales process and help in dramatically elevating your closing ratio. Questions and challenges will be welcome.\n\n\n\nBarry McKinley of SCORE is the presenter
X-ALT-DESC;FMTTYPE=text/html:Designed for business owners\, managers\, office and sales staff\, this workshop will take you step by step through the art of selling.It is guaranteed to give you much more confidence\, a far better understanding of the sales process and help in dramatically elevating your closing ratio. Questions and challenges will be welcome.<br />\n<br />\nBarry McKinley of SCORE&nbsp\;is the presenter
LOCATION:National University 3390 Harbor Blvd. Costa Mesa\, CA 92626
UID:e.887.16019
SEQUENCE:3
DTSTAMP:20260421T120052Z
URL:https://business.nocchamber.com/events/details/score-workshop-the-secrets-of-selling-16019
END:VEVENT

END:VCALENDAR
