BEGIN:VCALENDAR
VERSION:2.0
PRODID:-//ChamberMaster//Event Calendar 2.0//EN
METHOD:PUBLISH
X-PUBLISHED-TTL:P3D
REFRESH-INTERVAL:P3D
CALSCALE:GREGORIAN
BEGIN:VEVENT
DTSTART:20190916T173000Z
DTEND:20190916T203000Z
X-MICROSOFT-CDO-ALLDAYEVENT:FALSE
SUMMARY:SCORE Workshop - The Power of PPC Advertising: Google Adwords & Paid Search in Action
DESCRIPTION:Google AdWords drives targeted\, relevant\, and specific traffic to your website. See how the most powerful advertising tool ever created can generate sales for your business. Get lower costs per lead and higher ROI with PPC advertising. \n\n\n\nPresented by Stuart Atkins\, owner and founder of Atkins Marketing Solutions\, a digital marketing agency in Orange\, CA.
X-ALT-DESC;FMTTYPE=text/html:<span style="display: inline !important\; float: none\; background-color: rgb(255\, 255\, 255)\; color: rgb(51\, 51\, 51)\; cursor: text\; font-family: sans-serif\,Arial\,Verdana\," trebuchet="">Google AdWords drives targeted\, relevant\, and specific traffic to your website. See how the most powerful advertising tool ever created can generate sales for your business. Get lower costs per lead and higher ROI with PPC advertising. </span><br style="background-color: transparent\; color: rgb(51\, 51\, 51)\; cursor: text\; font-family: sans-serif\,Arial\,Verdana\,&quot\;Trebuchet MS&quot\;\; font-size: 13px\; font-style: normal\; font-variant: normal\; font-weight: 400\; letter-spacing: normal\; line-height: 20.8px\; margin-bottom: 0px\; margin-left: 0px\; margin-right: 0px\; margin-top: 0px\; orphans: 2\; text-align: left\; text-decoration: none\; text-indent: 0px\; text-transform: none\; -webkit-text-stroke-width: 0px\; white-space: normal\; word-spacing: 0px\;" />\n<br style="background-color: transparent\; color: rgb(51\, 51\, 51)\; cursor: text\; font-family: sans-serif\,Arial\,Verdana\,&quot\;Trebuchet MS&quot\;\; font-size: 13px\; font-style: normal\; font-variant: normal\; font-weight: 400\; letter-spacing: normal\; line-height: 20.8px\; margin-bottom: 0px\; margin-left: 0px\; margin-right: 0px\; margin-top: 0px\; orphans: 2\; text-align: left\; text-decoration: none\; text-indent: 0px\; text-transform: none\; -webkit-text-stroke-width: 0px\; white-space: normal\; word-spacing: 0px\;" />\n<span style="display: inline !important\; float: none\; background-color: rgb(255\, 255\, 255)\; color: rgb(51\, 51\, 51)\; cursor: text\; font-family: sans-serif\,Arial\,Verdana\," trebuchet="">Presented by Stuart Atkins\, owner and founder of Atkins Marketing Solutions\, a digital marketing agency in Orange\, CA.</span>
LOCATION:Webster University (VM Wooten) 32 Discovery\, #250 Irvine\, CA 92618
UID:e.887.23701
SEQUENCE:3
DTSTAMP:20260422T014037Z
URL:https://business.nocchamber.com/events/details/score-workshop-the-power-of-ppc-advertising-google-adwords-paid-search-in-action-23701
END:VEVENT

END:VCALENDAR
