BEGIN:VCALENDAR
VERSION:2.0
PRODID:-//ChamberMaster//Event Calendar 2.0//EN
METHOD:PUBLISH
X-PUBLISHED-TTL:P3D
REFRESH-INTERVAL:P3D
CALSCALE:GREGORIAN
BEGIN:VEVENT
DTSTART:20180817T010000Z
DTEND:20180817T040000Z
X-MICROSOFT-CDO-ALLDAYEVENT:FALSE
SUMMARY:SCORE Workshop - The Power of PPC Advertising: Google AdWords in Action
DESCRIPTION:SCORE will be hosting a Google AdWords workshop:\n\n	How to attract traffic in website\n	Understanding the algorithms of clicks\n	Understanding search marketing\n	How to utilize PPC advertising\n	AdWords to increase sales
X-ALT-DESC;FMTTYPE=text/html:SCORE will be hosting a Google AdWords workshop:\n<ul>\n	<li>How to attract traffic in website</li>\n	<li>Understanding the algorithms of clicks</li>\n	<li>Understanding search marketing</li>\n	<li>How to utilize PPC advertising</li>\n	<li>AdWords to increase sales</li>\n</ul>\n
LOCATION:La Palma Community Center (VM Curiel) 7821 Walker Street La Palma\, CA 90623
UID:e.887.22608
SEQUENCE:3
DTSTAMP:20260422T091451Z
URL:https://business.nocchamber.com/events/details/score-workshop-the-power-of-ppc-advertising-google-adwords-in-action-22608
END:VEVENT

END:VCALENDAR
