BEGIN:VCALENDAR
VERSION:2.0
PRODID:-//ChamberMaster//Event Calendar 2.0//EN
METHOD:PUBLISH
X-PUBLISHED-TTL:P3D
REFRESH-INTERVAL:P3D
CALSCALE:GREGORIAN
BEGIN:VEVENT
DTSTART:20180314T003000Z
DTEND:20180314T033000Z
X-MICROSOFT-CDO-ALLDAYEVENT:FALSE
SUMMARY:Score Workshop - The Power of PPC Advertising: Google AdWords in Action
DESCRIPTION:Google AdWords is the most effective digital advertising tool ever created. AdWords drives targeted\, relevant\, and specific traffic to your website. With AdWords you're in control. Customers chase you so you don't have to chase them. You set your daily budget\, create your own ads\, choose geographic placement\, and build your keyword list. In short\, AdWords allows any business to attract the right customers at the right time for the right product. \n\n \n\nAttend this introductory seminar and learn:\n\n- How AdWords attracts targeted and relevant traffic to your website in 24 hours\n\n- How AdWords captures customer intent\n\n- Why all clicks are not created equal\n\n- Why effective lead generation and attribution is critical for sales success\n\n- Why text ads beat banner ads\n\n- Why search marketing is the most powerful tool in your digital arsenal\n\n- Why search is more powerful yet complimentary to social media\n\n- How AdWords uses mobile marketing to increase sales\n\n- How PPC uses detailed call tracking to help close sales\n\n- Why more people buy with PPC ads than organic searches when looking to purchase online\n\n- How PPC can increase sales and sell more products\n\n- And more...\n\n \n\nPlus useful tips from Stu's new book\, successful digital client case studies and marketing strategies. Register Now\, Space is limited and will fill up quickly!
X-ALT-DESC;FMTTYPE=text/html:<span style="color:#000000\;"><span style="font-family:arial\,sans-serif\;"><span style="font-size:10.0pt\;">Google AdWords is the most effective digital advertising tool ever created. AdWords drives targeted\, relevant\, and specific traffic to your website. With AdWords you&#39\;re in control. Customers chase you so you don&#39\;t have to chase them. You set your daily budget\, create your own ads\, choose geographic placement\, and build your keyword list. In short\, AdWords allows any business to attract the right customers at the right time for the right product.&nbsp\;</span></span><br />\n&nbsp\;<br />\n<span style="font-family:arial\,sans-serif\;"><span style="font-size:10.0pt\;">Attend this introductory seminar and learn:</span></span><br />\n<span style="font-family:arial\,sans-serif\;"><span style="font-size:10.0pt\;">- How AdWords attracts targeted and relevant traffic to your website in 24 hours</span></span><br />\n<span style="font-family:arial\,sans-serif\;"><span style="font-size:10.0pt\;">- How AdWords captures customer intent</span></span><br />\n<span style="font-family:arial\,sans-serif\;"><span style="font-size:10.0pt\;">- Why all clicks are not created equal</span></span><br />\n<span style="font-family:arial\,sans-serif\;"><span style="font-size:10.0pt\;">- Why effective lead generation and attribution is critical for sales success</span></span><br />\n<span style="font-family:arial\,sans-serif\;"><span style="font-size:10.0pt\;">- Why text ads beat banner ads</span></span><br />\n<span style="font-family:arial\,sans-serif\;"><span style="font-size:10.0pt\;">- Why search marketing is the most powerful tool in your digital arsenal</span></span><br />\n<span style="font-family:arial\,sans-serif\;"><span style="font-size:10.0pt\;">- Why search is more powerful yet complimentary to social media</span></span><br />\n<span style="font-family:arial\,sans-serif\;"><span style="font-size:10.0pt\;">- How AdWords uses mobile marketing to increase sales</span></span><br />\n<span style="font-family:arial\,sans-serif\;"><span style="font-size:10.0pt\;">- How PPC uses detailed call tracking to help close sales</span></span><br />\n<span style="font-family:arial\,sans-serif\;"><span style="font-size:10.0pt\;">- Why more people buy with PPC ads than organic searches when looking to purchase online</span></span><br />\n<span style="font-family:arial\,sans-serif\;"><span style="font-size:10.0pt\;">- How PPC can increase sales and sell more products</span></span><br />\n<span style="font-family:arial\,sans-serif\;"><span style="font-size:10.0pt\;">- And more...</span></span><br />\n&nbsp\;<br />\n<span style="font-family:arial\,sans-serif\;"><span style="font-size:10.0pt\;">Plus useful tips from Stu&#39\;s new book\, successful digital client case studies and marketing strategies. Register Now\, Space is limited and will fill up quickly!&nbsp\;</span></span></span>
LOCATION:La Habra Community Center (VM Stoner) 101 W. La Habra Blvd La Habra\, CA 90631
UID:e.887.18202
SEQUENCE:3
DTSTAMP:20260421T233426Z
URL:https://business.nocchamber.com/events/details/score-workshop-the-power-of-ppc-advertising-google-adwords-in-action-18202
END:VEVENT

END:VCALENDAR
