BEGIN:VCALENDAR
VERSION:2.0
PRODID:-//ChamberMaster//Event Calendar 2.0//EN
METHOD:PUBLISH
X-PUBLISHED-TTL:P3D
REFRESH-INTERVAL:P3D
CALSCALE:GREGORIAN
BEGIN:VEVENT
DTSTART:20180302T020000Z
DTEND:20180302T050000Z
X-MICROSOFT-CDO-ALLDAYEVENT:FALSE
SUMMARY:SCORE Workshop: The Best Customer Service... How To... The Basics
DESCRIPTION:This is a very interactive\, high energy workshop that focuses on the simple fact that if the employers treat their people right - hire the right people\, train them right\, reward them right\, hold them accountable\, etc. - then their people will always go the extra distance for the customer and their employer.  \n\nThe presenter of this workshop is Dan Quinn\, Director of Corporate Relations\, Easter SealsSouthern California. The key elements that he brings to every presentation are his experience and passion. With an entire career spent in the field of hands-on retail\, he is able to relate to associates at all levels because "I've been there" doing what they do. He has over 30 years of customer service and training experience\, making dynamic\, hands-on\, innovative training happen at all levels from one-on one mentoring to corporate presentations. \n\n\n\nRegistration/ check-in begins at 5:30 p.m.
X-ALT-DESC;FMTTYPE=text/html:<p>This is a very interactive\, high energy workshop that focuses on the simple fact that if the employers treat their people right - hire the right people\, train them right\, reward them right\, hold them accountable\, etc. - then their people will always go the extra distance for the customer and their employer.&nbsp\;&nbsp\;</p>\n\n<div>The presenter of this workshop is&nbsp\;Dan Quinn\, Director of Corporate Relations\, Easter SealsSouthern California. The key elements that he brings to every presentation are his experience and passion. With an entire career spent in the field of hands-on retail\, he is able to relate to associates at all levels because &quot\;I&#39\;ve been there&quot\; doing what they do. He has over 30 years of customer service and training experience\, making dynamic\, hands-on\, innovative training happen at all levels from one-on one mentoring to corporate presentations.&nbsp\;<br />\n<br />\nRegistration/ check-in begins at 5:30 p.m.</div>\n
LOCATION:Brea Chamber of Commerce Conference Ctr (VM Rader) 1 Civic Center Circle 2nd Floor Brea\, CA 92821
UID:e.887.17766
SEQUENCE:3
DTSTAMP:20260421T213048Z
URL:https://business.nocchamber.com/events/details/score-workshop-the-best-customer-service-how-to-the-basics-17766
END:VEVENT

END:VCALENDAR
