BEGIN:VCALENDAR
VERSION:2.0
PRODID:-//ChamberMaster//Event Calendar 2.0//EN
METHOD:PUBLISH
X-PUBLISHED-TTL:P3D
REFRESH-INTERVAL:P3D
CALSCALE:GREGORIAN
BEGIN:VEVENT
DTSTART:20170224T020000Z
DTEND:20170224T050000Z
X-MICROSOFT-CDO-ALLDAYEVENT:FALSE
SUMMARY:SCORE Workshop: Taxes Q & A Open Forum for Individuals and Businesses
DESCRIPTION:The workshop format will be a presentation with an open forum for questions and answers based on explanation of tax law.\n\nThis workshop is presented by Donna L. Stern.  \n\nDonna is a CPA located in Newport Beach and is a graduate of USC.
X-ALT-DESC;FMTTYPE=text/html:The workshop format will be a presentation with an open forum for questions and answers based on explanation of tax law.<br />\nThis workshop is presented by&nbsp\;Donna L. Stern. &nbsp\;<br />\nDonna is a CPA located in Newport Beach and is a graduate of USC.&nbsp\;
LOCATION:Digital Media Center 1300 S Bristol Santa Ana\, CA 92704
UID:e.887.15673
SEQUENCE:3
DTSTAMP:20260422T035951Z
URL:https://business.nocchamber.com/events/details/score-workshop-taxes-q-a-open-forum-for-individuals-and-businesses-15673
END:VEVENT

END:VCALENDAR
