BEGIN:VCALENDAR
VERSION:2.0
PRODID:-//ChamberMaster//Event Calendar 2.0//EN
METHOD:PUBLISH
X-PUBLISHED-TTL:P3D
REFRESH-INTERVAL:P3D
CALSCALE:GREGORIAN
BEGIN:VEVENT
DTSTART:20190211T020000Z
DTEND:20190211T050000Z
X-MICROSOFT-CDO-ALLDAYEVENT:FALSE
SUMMARY:SCORE Workshop - Selling Techniques that Work
DESCRIPTION:SCORE's Workshop - Selling Techniques that Work: \n\n	Basics of making a sale\n	Communicating the benefits of a product\n	Negotiation techniques\n	Understanding customer's communication
X-ALT-DESC;FMTTYPE=text/html:SCORE&#39\;s Workshop - Selling Techniques that Work:&nbsp\;\n<ul>\n	<li>Basics of making a sale</li>\n	<li>Communicating the benefits of a product</li>\n	<li>Negotiation techniques</li>\n	<li>Understanding customer&#39\;s communication</li>\n</ul>\n
LOCATION:Fullerton Public Library Main Branch (VM Hawkins) 353 W. Commonwealth Ave. Fullerton\, CA 92832
UID:e.887.22924
SEQUENCE:3
DTSTAMP:20260422T090848Z
URL:https://business.nocchamber.com/events/details/score-workshop-selling-techniques-that-work-22924
END:VEVENT

END:VCALENDAR
