BEGIN:VCALENDAR
VERSION:2.0
PRODID:-//ChamberMaster//Event Calendar 2.0//EN
METHOD:PUBLISH
X-PUBLISHED-TTL:P3D
REFRESH-INTERVAL:P3D
CALSCALE:GREGORIAN
BEGIN:VEVENT
DTSTART:20180920T200000Z
DTEND:20180920T230000Z
X-MICROSOFT-CDO-ALLDAYEVENT:FALSE
SUMMARY:SCORE Workshop - Selling Techniques that Work
DESCRIPTION:SCORE is hosting a Selling Techniques that Work workshop:\n\n	Proper steps to make a sale\n	Effectively presenting a product\n	Negotiation techniques\n	Impactful communication\n	Understanding client's communication
X-ALT-DESC;FMTTYPE=text/html:SCORE is hosting a <strong>Selling Techniques that Work </strong>workshop:\n<ul>\n	<li>Proper steps to make a sale</li>\n	<li>Effectively presenting a product</li>\n	<li>Negotiation techniques</li>\n	<li>Impactful communication</li>\n	<li>Understanding client&rsquo\;s communication</li>\n</ul>\n
LOCATION:National University (VM Heard) 3390 Harbor Blvd. Costa Mesa\, CA 92626
UID:e.887.22684
SEQUENCE:3
DTSTAMP:20260422T152925Z
URL:https://business.nocchamber.com/events/details/score-workshop-selling-techniques-that-work-09-20-2018-22684
END:VEVENT

END:VCALENDAR
