BEGIN:VCALENDAR
VERSION:2.0
PRODID:-//ChamberMaster//Event Calendar 2.0//EN
METHOD:PUBLISH
X-PUBLISHED-TTL:P3D
REFRESH-INTERVAL:P3D
CALSCALE:GREGORIAN
BEGIN:VEVENT
DTSTART:20170727T173000Z
DTEND:20170727T200000Z
X-MICROSOFT-CDO-ALLDAYEVENT:FALSE
SUMMARY:SCORE Workshop - Retirement Planning for the Small Business Owner
DESCRIPTION:Learn easy and inexpensive ways to retain key employees in a competitive marketplace\, find income and tax shelters you can use\, and determine the right way to prepare for your own retirement.  If you're a small business owner for 5 years without a retirement plan in place this workshop is definitely for you.   Mandy Woo of SCORE presents this workshop.
X-ALT-DESC;FMTTYPE=text/html:Learn easy and inexpensive ways to retain key employees in a competitive marketplace\, find income and tax shelters you can use\, and determine the right way to prepare for your own retirement. &nbsp\;If you&#39\;re a small business owner for 5 years without a retirement plan in place this workshop is definitely for you.&nbsp\;&nbsp\; Mandy Woo of SCORE&nbsp\;presents this workshop. &nbsp\;&nbsp\;&nbsp\;
LOCATION:Fullerton Public Library Main Branch 353 W. Commonwealth Ave. Fullerton\, CA 92832
UID:e.887.16255
SEQUENCE:3
DTSTAMP:20260421T003250Z
URL:https://business.nocchamber.com/events/details/score-workshop-retirement-planning-for-the-small-business-owner-16255
END:VEVENT

END:VCALENDAR
