BEGIN:VCALENDAR
VERSION:2.0
PRODID:-//ChamberMaster//Event Calendar 2.0//EN
METHOD:PUBLISH
X-PUBLISHED-TTL:P3D
REFRESH-INTERVAL:P3D
CALSCALE:GREGORIAN
BEGIN:VEVENT
DTSTART:20180815T200000Z
DTEND:20180815T220000Z
X-MICROSOFT-CDO-ALLDAYEVENT:FALSE
SUMMARY:SCORE Workshop - Restaurant Start-Up Essentials
DESCRIPTION:SCORE will be hosting a restaurant workshop:\n\n	Defining restaurant's concept\n	Basics of restaurant finances and numerical benchmarks\n	Realistic capital requirements of venture\n	Restaurant checklist\n	Resources and tools for restaurants
X-ALT-DESC;FMTTYPE=text/html:SCORE will be hosting a restaurant workshop:\n<ul>\n	<li>Defining restaurant&rsquo\;s concept</li>\n	<li>Basics of restaurant finances and numerical benchmarks</li>\n	<li>Realistic capital requirements of venture</li>\n	<li>Restaurant checklist</li>\n	<li>Resources and tools for restaurants</li>\n</ul>\n
LOCATION:National University (VM Heard) 3390 Harbor Blvd. Costa Mesa\, CA 92626
UID:e.887.22609
SEQUENCE:3
DTSTAMP:20260422T090654Z
URL:https://business.nocchamber.com/events/details/score-workshop-restaurant-start-up-essentials-22609
END:VEVENT

END:VCALENDAR
