BEGIN:VCALENDAR
VERSION:2.0
PRODID:-//ChamberMaster//Event Calendar 2.0//EN
METHOD:PUBLISH
X-PUBLISHED-TTL:P3D
REFRESH-INTERVAL:P3D
CALSCALE:GREGORIAN
BEGIN:VEVENT
DTSTART:20180411T003000Z
DTEND:20180411T033000Z
X-MICROSOFT-CDO-ALLDAYEVENT:FALSE
SUMMARY:SCORE Workshop - Restaurant Start-Up Essentials
DESCRIPTION:Have you finally decided to pursue your dream of opening a restaurant but wonder about the challenges you might face? Or are you a new restaurateur\, familiar with the early struggles\, but want to become more knowledgeable about expanding your operation?\n\n \n\nRestaurant Start-Up Essentials is a workshop that offers advice geared to both types of entrepreneur. It discusses the critical path to opening a successful restaurant\, as well as identifies those industry-specific challenges unique to restaurant operations. Attendees will walk away with a playbook for making their restaurants profitable ventures.\n\n \n\nWhat You Will Learn\n\n  How to define your restaurant's concept\n\n  The basics of restaurant finances and numerical benchmarks\n\n  What are the realistic capital requirements of your venture\n\n  A one-year countdown and checklist to get you to your official opening\n\n  Valuable resources and tools to use for more information
X-ALT-DESC;FMTTYPE=text/html:<div style="margin: 0px\; padding: 0px\; color: rgb(0\, 0\, 144)\; font-family: Arial\, Helvetica\, sans-serif\; font-size: 12px\;"><span style="color:#000000\;"><span style="font-size: 10pt\;" title="">Have you finally decided to pursue your dream of opening a restaurant but wonder about the challenges you might face?&nbsp\;Or are you a new restaurateur\, familiar with the early struggles\, but want to become more knowledgeable about expanding your operation?</span></span></div>\n\n<div style="margin: 0px\; padding: 0px\; color: rgb(0\, 0\, 144)\; font-family: Arial\, Helvetica\, sans-serif\; font-size: 12px\;">&nbsp\;</div>\n\n<div style="margin: 0px\; padding: 0px\; color: rgb(0\, 0\, 144)\; font-family: Arial\, Helvetica\, sans-serif\; font-size: 12px\;"><span style="color:#000000\;"><span style="font-size: 10pt\;" title=""><em>Restaurant Start-Up Essentials</em>&nbsp\;is a workshop that offers advice geared to both types of entrepreneur. It discusses the critical path to opening a successful restaurant\, as well as identifies those industry-specific challenges unique to restaurant operations. Attendees will walk away with a playbook for making their restaurants profitable ventures.</span></span></div>\n\n<div style="margin: 0px\; padding: 0px\; color: rgb(0\, 0\, 144)\; font-family: Arial\, Helvetica\, sans-serif\; font-size: 12px\;">&nbsp\;</div>\n\n<div style="margin: 0px\; padding: 0px\; color: rgb(0\, 0\, 144)\; font-family: Arial\, Helvetica\, sans-serif\; font-size: 12px\;"><span style="color:#000000\;"><span style="font-size: 10pt\;" title="">What You Will Learn</span></span></div>\n\n<div style="margin: 0px\; padding: 0px\; color: rgb(0\, 0\, 144)\; font-family: Arial\, Helvetica\, sans-serif\; font-size: 12px\;"><span style="color:#000000\;"><span style="font-size: 10pt\;" title="">&bull\; How to define your restaurant&rsquo\;s concept</span></span></div>\n\n<div style="margin: 0px\; padding: 0px\; color: rgb(0\, 0\, 144)\; font-family: Arial\, Helvetica\, sans-serif\; font-size: 12px\;"><span style="color:#000000\;"><span style="font-size: 10pt\;" title="">&bull\; The basics of restaurant finances and numerical benchmarks</span></span></div>\n\n<div style="margin: 0px\; padding: 0px\; color: rgb(0\, 0\, 144)\; font-family: Arial\, Helvetica\, sans-serif\; font-size: 12px\;"><span style="color:#000000\;"><span style="font-size: 10pt\;" title="">&bull\; What are the realistic capital requirements of your venture</span></span></div>\n\n<div style="margin: 0px\; padding: 0px\; color: rgb(0\, 0\, 144)\; font-family: Arial\, Helvetica\, sans-serif\; font-size: 12px\;"><span style="color:#000000\;"><span style="font-size: 10pt\;" title="">&bull\; A one-year countdown and checklist to get you to your official opening</span></span></div>\n\n<div style="margin: 0px\; padding: 0px\; color: rgb(0\, 0\, 144)\; font-family: Arial\, Helvetica\, sans-serif\; font-size: 12px\;"><span style="color:#000000\;"><span style="font-size: 10pt\;" title="">&bull\; Valuable resources and tools to use for more information</span></span></div>\n
LOCATION:La Habra Community Center\, El Camino Room 101 W. Habra Blvd. La Habra\, CA 90631
UID:e.887.21269
SEQUENCE:3
DTSTAMP:20260421T230657Z
URL:https://business.nocchamber.com/events/details/score-workshop-restaurant-start-up-essentials-21269
END:VEVENT

END:VCALENDAR
