BEGIN:VCALENDAR
VERSION:2.0
PRODID:-//ChamberMaster//Event Calendar 2.0//EN
METHOD:PUBLISH
X-PUBLISHED-TTL:P3D
REFRESH-INTERVAL:P3D
CALSCALE:GREGORIAN
BEGIN:VEVENT
DTSTART:20190927T010000Z
DTEND:20190927T034500Z
X-MICROSOFT-CDO-ALLDAYEVENT:FALSE
SUMMARY:SCORE Workshop Restaurant 2.0
DESCRIPTION:You finally opened your dream restaurant! Are the results meeting your expectations? Better understand the unique challenges of operating a successful restaurant. Learn new techniques that will help you improve your business. You will get a new perspective on old topics and exposed to new tools that really do drive profits. Meet other restaurateurs that understand your challenges and learn industry best practices. Attendees will walk away with a playbook for making their restaurants more profitable.\n\n\n\nPresented by Greg McNally\, the owner and CEO of Food Power Inc.
X-ALT-DESC;FMTTYPE=text/html:You finally opened your dream restaurant! Are the results meeting your expectations? Better understand the unique challenges of operating a successful restaurant. Learn new techniques that will help you improve your business. You will get a new perspective on old topics and exposed to new tools that really do drive profits. Meet other restaurateurs that understand your challenges and learn industry best practices. Attendees will walk away with a playbook for making their restaurants more profitable.<br />\n<br />\nPresented by Greg McNally\, the owner and CEO of Food Power Inc.
LOCATION:Digital Media Center (Heard) 1300 S. Bristol Santa Ana\, CA 92704
UID:e.887.23713
SEQUENCE:3
DTSTAMP:20260422T000536Z
URL:https://business.nocchamber.com/events/details/score-workshop-restaurant-2-0-23713
END:VEVENT

END:VCALENDAR
