BEGIN:VCALENDAR
VERSION:2.0
PRODID:-//ChamberMaster//Event Calendar 2.0//EN
METHOD:PUBLISH
X-PUBLISHED-TTL:P3D
REFRESH-INTERVAL:P3D
CALSCALE:GREGORIAN
BEGIN:VEVENT
DTSTART:20170411T010000Z
DTEND:20170411T040000Z
X-MICROSOFT-CDO-ALLDAYEVENT:FALSE
SUMMARY:SCORE Workshop QuickBooks - Beyond Basics
DESCRIPTION:Topics will include: Best Practices\, Setup Essentials\, Advanced Tasks\, Job Costing\, Budgeting\, Customized Reporting\, and much more! This class is very interactive with actual 'Real-Time' application usage. Class interaction is sought and encouraged. Attendees may bring their own laptops if they choose\; it is however not required. QuickBooks 2016 will be the version used for the class. This is an advanced workshop.  Attendees MUST have prior QuickBooks working experience and have basic understanding of software functions.\n\n\n\nC. P. Krishnan presents this workshop
X-ALT-DESC;FMTTYPE=text/html:Topics will include: Best Practices\, Setup Essentials\, Advanced Tasks\, Job Costing\, Budgeting\, Customized Reporting\, and much more! This class is very interactive with actual &#39\;Real-Time&#39\; application usage. Class interaction is sought and encouraged. Attendees may bring their own laptops if they choose\; it is however not required. QuickBooks 2016 will be the version used for the class. This is an advanced workshop. &nbsp\;Attendees MUST have prior QuickBooks working experience and have basic understanding of software functions.<br />\n<br />\nC. P. Krishnan&nbsp\;presents this workshop
LOCATION:Chapman University 549 W. Palm Orange\, CA 92868
UID:e.887.16018
SEQUENCE:3
DTSTAMP:20260421T131041Z
URL:https://business.nocchamber.com/events/details/score-workshop-quickbooks-beyond-basics-16018
END:VEVENT

END:VCALENDAR
