BEGIN:VCALENDAR
VERSION:2.0
PRODID:-//ChamberMaster//Event Calendar 2.0//EN
METHOD:PUBLISH
X-PUBLISHED-TTL:P3D
REFRESH-INTERVAL:P3D
CALSCALE:GREGORIAN
BEGIN:VEVENT
DTSTART:20180411T010000Z
DTEND:20180411T040000Z
X-MICROSOFT-CDO-ALLDAYEVENT:FALSE
SUMMARY:SCORE Workshop - Preparing To Lease Space For Your Business
DESCRIPTION:Do you plan to open an office\, a store\, a restaurant\, a yoga or massage studio\, apparel\, etc. but are nervous about the prospect of leasing a space?  For any entrepreneur contemplating the "where" of your operation\, this is the workshop to take before you sign a lease.\n\n \n\nLeasing Space for Your Business focuses fully on the leasing process.   It encompasses some of the trickier elements involved by covering basic leasing information to advanced vocabulary. This highly informative workshop also discusses ways to use the variety of opportunities available today:  temporary\, permanent\, pop-ups\, kiosks and carts.   Equally important\, it will help prepare you to find the best location for your business.\n\n \n\nWhat You Will Learn\n\n* What documents you need before approaching a  landlord or   broker\n\n* The different types of real estate brokers and their expertise how do they get paid\n\n* The advantages of leasing in a mall vs. those offered by a  neighborhood center\, short term leases vs. long term leases\n\n* How to protect your business before signing a lease\n\n* Ways to protect your assets should you need to end a lease early
X-ALT-DESC;FMTTYPE=text/html:<br />\n<span style="color:#000000\;"><span style="font-family:arial\,sans-serif\;"><span style="font-size:10.0pt\;">Do you plan to open an office\, a store\, a restaurant\, a yoga or massage studio\, apparel\, etc. but are nervous about the prospect of leasing a space?&nbsp\; For any entrepreneur contemplating the &quot\;where&quot\; of your operation\, this is the workshop to take before you sign a lease.</span></span><br />\n&nbsp\;<br />\n<span style="font-family:arial\,sans-serif\;"><span style="font-size:10.0pt\;">Leasing Space for Your Business focuses fully on the leasing process.&nbsp\; &nbsp\;It encompasses some of the trickier elements involved by covering basic leasing information to advanced vocabulary. This highly informative workshop also discusses ways to use the variety of opportunities available today:&nbsp\; temporary\, permanent\, pop-ups\, kiosks and carts.&nbsp\; &nbsp\;Equally important\, it will help prepare you to find the best location for your business.</span></span><br />\n&nbsp\;<br />\n<span style="font-family:arial\,sans-serif\;"><span style="font-size:10.0pt\;">What You Will Learn</span></span><br />\n<span style="font-family:arial\,sans-serif\;"><span style="font-size:10.0pt\;">* What documents you need before approaching a &nbsp\;landlord or &nbsp\; broker</span></span><br />\n<span style="font-family:arial\,sans-serif\;"><span style="font-size:10.0pt\;">* The different types of real estate brokers and their expertise how do they get paid</span></span><br />\n<span style="font-family:arial\,sans-serif\;"><span style="font-size:10.0pt\;">* The advantages of leasing in a mall vs. those offered by a&nbsp\; neighborhood center\, short term leases vs. long term leases</span></span><br />\n<span style="font-family:arial\,sans-serif\;"><span style="font-size:10.0pt\;">* How to protect your business before signing a lease</span></span><br />\n<span style="font-family:arial\,sans-serif\;"><span style="font-size:10.0pt\;">* Ways to protect your assets should you need to end a lease early</span></span></span>
LOCATION:Garden Grove Community Center(VM Z. Smith) 11300 Stanford Ave. Room B Garden Grove\, CA 92840
UID:e.887.21278
SEQUENCE:3
DTSTAMP:20260422T010108Z
URL:https://business.nocchamber.com/events/details/score-workshop-preparing-to-lease-space-for-your-business-04-10-2018-21278
END:VEVENT

END:VCALENDAR
