BEGIN:VCALENDAR
VERSION:2.0
PRODID:-//ChamberMaster//Event Calendar 2.0//EN
METHOD:PUBLISH
X-PUBLISHED-TTL:P3D
REFRESH-INTERVAL:P3D
CALSCALE:GREGORIAN
BEGIN:VEVENT
DTSTART:20181214T020000Z
DTEND:20181214T050000Z
X-MICROSOFT-CDO-ALLDAYEVENT:FALSE
SUMMARY:SCORE Workshop: Optimizing your Content Success with SEO and Google Analytics
DESCRIPTION:You will learn how to evaluate starting a franchise vs. an independent business vs. buying an existing business\; the best types of franchises to open in today's economy\; the myths about franchising\; the costs to start a franchise\; how to research a franchise to make sure it's the right choice\; how to decide which franchises are best for you\; what mistakes to avoid when choosing and researching a franchise\; negotiation issues\; California laws & common issues\; legal documents\, e.g. disclosure document and franchise agreement.\n\nCraig Wells and Richard Usher present this workshop.\n\nRegistration/ check-in begins at 1:00 p.m.
X-ALT-DESC;FMTTYPE=text/html:<p>You will learn how to evaluate starting a franchise vs. an independent business vs. buying an existing business\; the best types of franchises to open in today&rsquo\;s economy\; the myths about franchising\; the costs to start a franchise\; how to research a franchise to make sure it&rsquo\;s the right choice\; how to decide which franchises are best for you\; what mistakes to avoid when choosing and researching a franchise\; negotiation issues\; California laws &amp\; common issues\; legal documents\, e.g. disclosure document and franchise agreement.</p>\n\n<div>Craig Wells and Richard Usher&nbsp\;present this workshop.</div>\n\n<div>Registration/ check-in begins at 1:00 p.m.</div>\n
LOCATION:Brea Chamber of Commerce Conference Ctr (VM Rader) 1 Civic Center Circle 2nd Floor Brea\, CA 92821
UID:e.887.22899
SEQUENCE:3
DTSTAMP:20260422T113958Z
URL:https://business.nocchamber.com/events/details/score-workshop-optimizing-your-content-success-with-seo-and-google-analytics-22899
END:VEVENT

END:VCALENDAR
