BEGIN:VCALENDAR
VERSION:2.0
PRODID:-//ChamberMaster//Event Calendar 2.0//EN
METHOD:PUBLISH
X-PUBLISHED-TTL:P3D
REFRESH-INTERVAL:P3D
CALSCALE:GREGORIAN
BEGIN:VEVENT
DTSTART:20180817T010000Z
DTEND:20180817T040000Z
X-MICROSOFT-CDO-ALLDAYEVENT:FALSE
SUMMARY:SCORE Workshop - Optimizing Your Content Success with SEO and Google Analytics
DESCRIPTION:SCORE will be hosting a SEO and Google Analytics workshop:\n\n	Types of valuable contents\n	Understanding audience's appeal to content\n	Strategies for content visibility through SEO\n	Measuring success of content\n	Utilizing Google Analytic to measure website success
X-ALT-DESC;FMTTYPE=text/html:SCORE will be hosting a SEO and Google Analytics workshop:\n<ul>\n	<li>Types of valuable contents</li>\n	<li>Understanding audience&rsquo\;s appeal to content</li>\n	<li>Strategies for content visibility through SEO</li>\n	<li>Measuring success of content</li>\n	<li>Utilizing Google Analytic to measure website success</li>\n</ul>\n
LOCATION:Fullerton Public Library Main Branch 353 W. Commonwealth Ave Fullerton\, CA 92832
UID:e.887.22607
SEQUENCE:3
DTSTAMP:20260422T090857Z
URL:https://business.nocchamber.com/events/details/score-workshop-optimizing-your-content-success-with-seo-and-google-analytics-22607
END:VEVENT

END:VCALENDAR
