BEGIN:VCALENDAR
VERSION:2.0
PRODID:-//ChamberMaster//Event Calendar 2.0//EN
METHOD:PUBLISH
X-PUBLISHED-TTL:P3D
REFRESH-INTERVAL:P3D
CALSCALE:GREGORIAN
BEGIN:VEVENT
DTSTART:20180912T010000Z
DTEND:20180912T030000Z
X-MICROSOFT-CDO-ALLDAYEVENT:FALSE
SUMMARY:SCORE Workshop - Mistakes That Cause Businesses to Fail
DESCRIPTION:SCORE will be hosting Mistakes That Cause California Businesses to Fail workshop:\n\n	HR Issues and Solutions\n	Employment law violations\n	Implementing HR best practices\n	Consequences of managers or supervisors with no management training\n	Employee engagement and training programs\n	Operations and customer service issues\n	Strategic recruitment\, retention and diversity initatives
X-ALT-DESC;FMTTYPE=text/html:<span style="background:white\;"><span style="color:#333333\;"><span style="font-family:arial\,sans-serif\;"><span style="font-size:10.0pt\;">SCORE will be hosting <strong>Mistakes That Cause California Businesses to Fail workshop</strong>:</span></span></span></span>\n<ul>\n	<li>HR Issues and Solutions</li>\n	<li>Employment law violations</li>\n	<li>Implementing HR best practices</li>\n	<li>Consequences of managers or supervisors with no management training</li>\n	<li>Employee engagement and training programs</li>\n	<li>Operations and customer service issues</li>\n	<li>Strategic recruitment\, retention and diversity initatives</li>\n</ul>\n
LOCATION:Rancho Santa Margarita (VM Lekander) 22232 El Paseo Rancho Santa Margarita\, CA 92688
UID:e.887.22670
SEQUENCE:3
DTSTAMP:20260422T123635Z
URL:https://business.nocchamber.com/events/details/score-workshop-mistakes-that-cause-businesses-to-fail-22670
END:VEVENT

END:VCALENDAR
