BEGIN:VCALENDAR
VERSION:2.0
PRODID:-//ChamberMaster//Event Calendar 2.0//EN
METHOD:PUBLISH
X-PUBLISHED-TTL:P3D
REFRESH-INTERVAL:P3D
CALSCALE:GREGORIAN
BEGIN:VEVENT
DTSTART:20190109T020000Z
DTEND:20190109T044500Z
X-MICROSOFT-CDO-ALLDAYEVENT:FALSE
SUMMARY:SCORE Workshop - Marketing & Promotion: Finding Your Niche
DESCRIPTION:SCORE Workshop - Marketing & Promotion: Finding Your Niche:\n\n	Identify and attract customers to your product or service\n	Find their real wants and needs\n	Learn how to get your message to target customers\n	Determine why they should wdant to buy from you and keep coming back\n	Look at methods to create and build awareness\n	Generate a sale and encourage repeat business
X-ALT-DESC;FMTTYPE=text/html:SCORE Workshop - Marketing &amp\; Promotion: Finding Your Niche:\n<ul>\n	<li>Identify and attract customers to your product or service</li>\n	<li>Find their real wants and needs</li>\n	<li>Learn how to get your message to target customers</li>\n	<li>Determine why they should wdant to buy from you and keep coming back</li>\n	<li>Look at methods to create and build awareness</li>\n	<li>Generate a sale and encourage repeat business</li>\n</ul>\n
LOCATION:Newport Beach Public Library (VM Hoff) 1000 Avocado Avenue Newport Beach\, CA 92660
UID:e.887.22919
SEQUENCE:3
DTSTAMP:20260422T114235Z
URL:https://business.nocchamber.com/events/details/score-workshop-marketing-promotion-finding-your-niche-22919
END:VEVENT

END:VCALENDAR
