BEGIN:VCALENDAR
VERSION:2.0
PRODID:-//ChamberMaster//Event Calendar 2.0//EN
METHOD:PUBLISH
X-PUBLISHED-TTL:P3D
REFRESH-INTERVAL:P3D
CALSCALE:GREGORIAN
BEGIN:VEVENT
DTSTART:20191017T010000Z
DTEND:20191017T033000Z
X-MICROSOFT-CDO-ALLDAYEVENT:FALSE
SUMMARY:SCORE Workshop - Marketing is War!
DESCRIPTION:You will learn:\n\n \n\n1. Proven strategies on how smaller competitors outperform bigger competitors\n\n2. How to focus on a few critical things\n\n3. What to advertise\, what to sell and what makes you money\n\n \n\nBusinesses that should attend:\n\n \n\n1. Businesses who compete regularly against larger businesses\n\n2. Businesses who want to win more profitable business\n\n3. Businesses who are willing to CHANGE to become more successful
X-ALT-DESC;FMTTYPE=text/html:<div>You will learn:<br />\n&nbsp\;</div>\n\n<div>1. Proven strategies on how smaller competitors outperform bigger competitors</div>\n\n<div>2. How to focus on a few critical things</div>\n\n<div>3. What to advertise\, what to sell and what makes you money</div>\n\n<div>&nbsp\;</div>\n\n<div>Businesses that should attend:<br />\n&nbsp\;</div>\n\n<div>1. Businesses who compete regularly against larger businesses</div>\n\n<div>2. Businesses who want to win more profitable business</div>\n\n<div>3. Businesses who are willing to CHANGE to become more successful</div>\n
LOCATION:Laguna Niguel City Hall Community Room 30111 Crown Valley Parkway Laguna Niguel\, CA 92677
UID:e.887.23748
SEQUENCE:3
DTSTAMP:20260422T000703Z
URL:https://business.nocchamber.com/events/details/score-workshop-marketing-is-war-23748
END:VEVENT

END:VCALENDAR
