BEGIN:VCALENDAR
VERSION:2.0
PRODID:-//ChamberMaster//Event Calendar 2.0//EN
METHOD:PUBLISH
X-PUBLISHED-TTL:P3D
REFRESH-INTERVAL:P3D
CALSCALE:GREGORIAN
BEGIN:VEVENT
DTSTART:20190703T003000Z
DTEND:20190703T033000Z
X-MICROSOFT-CDO-ALLDAYEVENT:FALSE
SUMMARY:SCORE Workshop - Make a DIY Video for your Business
DESCRIPTION:Join Roni Ramos as she shares her best tips\, tricks\, and apps you can use right now to make a DIY video for your business...right on your smart phone. Show off your business in its best light\, using simple professional techniques.\n\n What you will learn: \n\n* Tools and techniques for making your own videos\n\n* What is the best length for online video\n\n* Lighting and sound tips for better video\n\n* Information on apps that make it easy!\n\n* Actionable steps to market your video online \n\n\n\nRoni Ramos from Harmony 3 Productions is the presenter of this workshop.
X-ALT-DESC;FMTTYPE=text/html:Join Roni Ramos as she shares her best tips\, tricks\, and apps you can use right now to make a DIY video for your business...right on your smart phone. Show off your business in its best light\, using simple professional techniques.\n<div>\n<p>&nbsp\;What you will learn:&nbsp\;<br />\n* Tools and techniques for making your own videos<br />\n* What is the best length for online video<br />\n* Lighting and sound tips for better video<br />\n* Information on apps that make it easy!<br />\n* Actionable steps to market your video online&nbsp\;<br />\n<br />\nRoni Ramos from Harmony 3 Productions is the presenter of this workshop.&nbsp\;<br />\n<br />\n&nbsp\;</p>\n</div>\n
LOCATION:La Habra Community Center (VM Byun) 101 W. La Habra Blvd. La Habra\, CA 90631
UID:e.887.23416
SEQUENCE:3
DTSTAMP:20260422T041644Z
URL:https://business.nocchamber.com/events/details/score-workshop-make-a-diy-video-for-your-business-23416
END:VEVENT

END:VCALENDAR
