BEGIN:VCALENDAR
VERSION:2.0
PRODID:-//ChamberMaster//Event Calendar 2.0//EN
METHOD:PUBLISH
X-PUBLISHED-TTL:P3D
REFRESH-INTERVAL:P3D
CALSCALE:GREGORIAN
BEGIN:VEVENT
DTSTART:20181206T163000Z
DTEND:20181206T203000Z
X-MICROSOFT-CDO-ALLDAYEVENT:FALSE
SUMMARY:SCORE Workshop - Legal Mistakes to Avoid
DESCRIPTION:SCORE is hosting a workshop on avoiding legal mistakes: \n\n	Choosing the best legal entity for businesses\n	Legal issues and mistakes in California business structure\n	HR-related mistakes and solutions\n	IP assets including procurement\, enforcement\, and monetization
X-ALT-DESC;FMTTYPE=text/html:<strong>SCORE</strong> is hosting a workshop on avoiding legal mistakes:&nbsp\;\n<ul>\n	<li>Choosing the best legal entity for businesses</li>\n	<li>Legal issues and mistakes in California business structure</li>\n	<li>HR-related mistakes and solutions</li>\n	<li>IP assets including procurement\, enforcement\, and monetization</li>\n</ul>\n
LOCATION:National University 3390 Harbor Blvd.\, Costa Mesa\, CA 92626
UID:e.887.22854
SEQUENCE:3
DTSTAMP:20260422T114157Z
URL:https://business.nocchamber.com/events/details/score-workshop-legal-mistakes-to-avoid-22854
END:VEVENT

END:VCALENDAR
