BEGIN:VCALENDAR
VERSION:2.0
PRODID:-//ChamberMaster//Event Calendar 2.0//EN
METHOD:PUBLISH
X-PUBLISHED-TTL:P3D
REFRESH-INTERVAL:P3D
CALSCALE:GREGORIAN
BEGIN:VEVENT
DTSTART:20180411T010000Z
DTEND:20180411T040000Z
X-MICROSOFT-CDO-ALLDAYEVENT:FALSE
SUMMARY:SCORE Workshop - Intellectual Property Fundamentals for the Start-up
DESCRIPTION:Which type of protection is right for you? \n\nWhat happens if you do not seek protection? \n\nWhat are the limits to protection? \n\nWhat is the cost of protection?\n\n\n\nLearn the difference between patent\, trademark\, trade secret\, and copyright protection.\n\nThis workshop is presented by Michael Shimokaji of the law firm of Shimokaji & Associates\, P.C.\, of Irvine\, specialists in intellectual property. \n\n\n\nFor more than 20 years Mr. Shimokaji has supported clients in industries as diverse as aerospace\, apparel\, household products\, medical devices\, software\, telecommunications\, photo imaging\, and semiconductors. He is the author of numerous articles and has lectured for local and national organizations\, as well as abroad.  He served on the Executive Committee for the California State Bar Intellectual Property Section and recently completed a term on the California State Bar Federal Courts Committee. Mr. Shimokaji has been a member of the editorial board for The Journal of The Association of University Technology Managers. He is admitted to the California Bar and admitted to practice before the United States Patent and Trademark Office.
X-ALT-DESC;FMTTYPE=text/html:<p>Which type of protection is right for you?&nbsp\;<br />\nWhat happens if you do not seek protection?&nbsp\;<br />\nWhat are the limits to protection?&nbsp\;<br />\nWhat is the cost of protection?<br />\n<br />\nLearn the difference between patent\, trademark\, trade secret\, and copyright protection.</p>\n\n<div>This workshop is presented by&nbsp\;Michael Shimokaji of the law firm of Shimokaji &amp\; Associates\, P.C.\, of Irvine\, specialists in intellectual property.&nbsp\;<br />\n<br />\nFor more than 20 years Mr. Shimokaji has supported clients in industries as diverse as aerospace\, apparel\, household products\, medical devices\, software\, telecommunications\, photo imaging\, and semiconductors. He is the author of numerous articles and has lectured for local and national organizations\, as well as abroad.&nbsp\; He served on the Executive Committee for the California State Bar Intellectual Property Section and recently completed a term on the California State Bar Federal Courts Committee. Mr. Shimokaji has been a member of the editorial board for The Journal of The Association of University Technology Managers.&nbsp\;He is admitted to the California Bar and admitted to practice before the United States Patent and Trademark Office.</div>\n
LOCATION:Rancho Santa Margarita(VM Lekander) 22231 EL Paseo Rancho Santa Margarita\, CA 92688
UID:e.887.21271
SEQUENCE:3
DTSTAMP:20260421T233241Z
URL:https://business.nocchamber.com/events/details/score-workshop-intellectual-property-fundamentals-for-the-start-up-21271
END:VEVENT

END:VCALENDAR
