BEGIN:VCALENDAR
VERSION:2.0
PRODID:-//ChamberMaster//Event Calendar 2.0//EN
METHOD:PUBLISH
X-PUBLISHED-TTL:P3D
REFRESH-INTERVAL:P3D
CALSCALE:GREGORIAN
BEGIN:VEVENT
DTSTART:20190801T170000Z
DTEND:20190801T190000Z
X-MICROSOFT-CDO-ALLDAYEVENT:FALSE
SUMMARY:SCORE Workshop - How to Start a Business
DESCRIPTION:This event will talk about:  \n\n\n\n\n	  Identifying a specific market for what you'll be selling \n\n\n\n\n\n	  Creating a sales message that works\n\n\n\n\n\n	  Where funding may be available to help get you started  \n\n\n\n\n\n	   Avoiding common mistakes made in choosing a business location    \n\n\n\n\n\n	   Deciding what business structure is best for you
X-ALT-DESC;FMTTYPE=text/html:<div>\n<p>This event will&nbsp\;talk about:&nbsp\;&nbsp\;</p>\n</div>\n\n<div>\n<ul>\n	<li>&nbsp\; Identifying a specific market for what you&#39\;ll be selling&nbsp\;</li>\n</ul>\n</div>\n\n<div>\n<ul>\n	<li>&nbsp\; Creating a sales message that works</li>\n</ul>\n</div>\n\n<div>\n<ul>\n	<li>&nbsp\;&nbsp\;Where funding may be available to help get you started&nbsp\;&nbsp\;</li>\n</ul>\n</div>\n\n<div>\n<ul>\n	<li>&nbsp\;&nbsp\;&nbsp\;Avoiding common mistakes made in choosing a business location&nbsp\;&nbsp\;&nbsp\;&nbsp\;</li>\n</ul>\n</div>\n\n<div>\n<ul>\n	<li>&nbsp\; &nbsp\;Deciding what business structure is best for you&nbsp\;&nbsp\;</li>\n</ul>\n</div>\n
LOCATION:OC One Stop Center 17891 Cartwright Road Irvine\, CA 92614
UID:e.887.23622
SEQUENCE:3
DTSTAMP:20260422T015226Z
URL:https://business.nocchamber.com/events/details/score-workshop-how-to-start-a-business-23622
END:VEVENT

END:VCALENDAR
