BEGIN:VCALENDAR
VERSION:2.0
PRODID:-//ChamberMaster//Event Calendar 2.0//EN
METHOD:PUBLISH
X-PUBLISHED-TTL:P3D
REFRESH-INTERVAL:P3D
CALSCALE:GREGORIAN
BEGIN:VEVENT
DTSTART:20170210T020000Z
DTEND:20170210T050000Z
X-MICROSOFT-CDO-ALLDAYEVENT:FALSE
SUMMARY:SCORE Workshop: How To Market Like A Media Machine
DESCRIPTION:In this high-energy\, practical and specific program\, learn these tips and techniques:\n\n	How to tap into your creativity to engage your customers\n	Content strategies that do not require a PhD or tons of time\n	Why you need to be focused on them\, and not on you\n	What you must avoid doing to prevent disaster\n	The #1 most important thing about content that businesses often forget\n\nThis workshop is presented by Mark Mikelat\, an online marketing expert\, speaker\, consultant\, and author\, with extensive experience in marketing and sales strategy.
X-ALT-DESC;FMTTYPE=text/html:In this high-energy\, practical and specific program\, learn these tips and techniques:\n<ul>\n	<li>How to tap into your creativity to engage your customers</li>\n	<li>Content strategies that do not require a PhD or tons of time</li>\n	<li>Why you need to be focused on them\, and not on you</li>\n	<li>What you must avoid doing to prevent disaster</li>\n	<li>The #1 most important thing about content that businesses often forget</li>\n</ul>\nThis workshop is presented by Mark Mikelat\, an online marketing expert\, speaker\, consultant\, and author\, with extensive experience in marketing and sales strategy.<br />\n<br />\n<br />\n&nbsp\;
LOCATION:Laguna Niguel City Hall Community Room 30111 Crown Valley Parkway\, Laguna Niguel
UID:e.887.15653
SEQUENCE:3
DTSTAMP:20260422T021117Z
URL:https://business.nocchamber.com/events/details/score-workshop-how-to-market-like-a-media-machine-15653
END:VEVENT

END:VCALENDAR
